Workbook

Sheet Verif Poutre
B2: → Vérification d'une poutre au CB 71 ←
B3: Calculette Bois V. 2
B7: Titre du projet : | C7: Maison en paille
B8: Elément concerné : | C8: Solives plancher
B13: CARACTERISTIQUES DE LA POUTRE
B15: Caractéristiques géométriques | E15: Type de bois
B16: hauteur (h) | C16: 25 | E16: RESINEUX / CHENE | H16: RESINEUX
B17: largeur (b) | C17: 15 | E17: MASSIF / LAMELLE | H17: MASSIF
B18: entraxe (a) | C18: 120 | E18: Catégorie (1,2 ou 3) | H18: 2
B19: portée (L) | C19: 450
B20: densité du bois (kg/m3) | C20: 550
B30: CHARGEMENT DE LA POUTRE
B32: Charges
C33: kg/m2 | D33: Pondération | E33: kg/ml
B34: Poids propre poutre | C34: ='Détail calculs'!B15*100 -> 17.1875 | D34: ='Détail calculs'!D15 -> 1 | E34: ='Détail calculs'!E15*100 -> 20.625
B35: Poids propre additionnel | C35: 150 | D35: ='Détail calculs'!D16 -> 1 | E35: ='Détail calculs'!E16*100 -> 180
B36: Charge d'exploitation | C36: 150 | D36: ='Détail calculs'!D17 -> 1.2 | E36: ='Détail calculs'!E17*100+'Détail calculs'!E18*100 -> 216
B37: Vent | C37: 0 | D37: ='Détail calculs'!D19 -> 0 | E37: ='Détail calculs'!E19 -> 0
B38: Neige | C38: 0 | D38: ='Détail calculs'!D20 -> 0 | E38: ='Détail calculs'!E20 -> 0
B39: TOTAL | E39: =CONCATENATE(ROUND(SUM(E34:E38),0)," kg/ml") -> 417 kg/ml
B46: RESULTATS
B48: Résultats ELS (1er genre)
B49: Charge totale sur la poutre | C49: =2*C50 -> 1874.8125
B50: Charge par appui | C50: ='Détail calculs'!B50*100 -> 937.40625 | E50: profondeur mini d'appui : | G50: =CONCATENATE(ROUND('Détail calculs'!E49,0), " cm2 soit ") -> 43 cm2 soit | H50: =CONCATENATE(ROUND('Détail calculs'!E50,0)," cm") -> 3 cm
B51: Contrainte de cisaillement | C51: ='Détail calculs'!F59 -> 3.749625 | E51: =IF('Détail calculs'!G59<1,"OK","FAUX") -> OK | G51: ='Détail calculs'!G59 -> 0.28843269
B52: Moment de flexion | C52: ='Détail calculs'!E29*100 -> 1054.582
B53: Contrainte de flexion | C53: ='Détail calculs'!F60 -> 67.49325 | E53: ='Détail calculs'!C65 -> OK | G53: ='Détail calculs'!G65 -> 0.7144663
B54: Flèche | C54: ='Détail calculs'!C41 -> 1.0484406 | E54: ='Détail calculs'!C43 -> OK | G54: ='Détail calculs'!G43 -> 1 / 430 éme

Sheet Détail calculs
A2: Vérif poutre isostatique en bois selon CB71 | L2: Explications:
A5: caractéristique géométrique: | E5: Bois :
A6: hauteur | B6: ='Verif Poutre'!C16/100 -> 0.25 | C6: m | E6: essence | G6: ='Verif Poutre'!H16 -> RESINEUX | L6: RESINEUX ou CHENE
A7: largeur | B7: ='Verif Poutre'!C17/100 -> 0.15 | C7: m | E7: type | G7: ='Verif Poutre'!H17 -> MASSIF | L7: MASSIF ou LAMELLE
A8: entraxe | B8: ='Verif Poutre'!C18/100 -> 1.2 | C8: m | E8: catégorie | G8: ='Verif Poutre'!H18 -> 2 | L8: Prendre par défaut du bois de catégorie 2
A9: portée | B9: ='Verif Poutre'!C19/100 -> 4.5 | C9: m
A10: densité bois | B10: ='Verif Poutre'!C20/100 -> 5.5 | C10: kN/m3
A12: Charges et combinaisons:
D13: premier genre | F13: second genre
B14: kN/m2 | C14: kN/ml | E14: kN/ml | G14: kN/ml | L14: 1kN =100kg
A15: PP | B15: =C15/B8 -> 0.171875 | C15: =D204*G204*B10/10000 -> 0.20625 | D15: 1 | E15: =D15*$C15 -> 0.20625 | F15: 1.1 | G15: =F15*$C15 -> 0.226875 | L15: Poids propre de la poutre
A16: Gsup | B16: ='Verif Poutre'!C35/100 -> 1.5 | C16: =B16*$B$8 -> 1.8 | D16: 1 | E16: =D16*$C16 -> 1.8 | F16: 1.1 | G16: =F16*$C16 -> 1.98 | L16: Poids Propre des autres structures du plancher (platelage, revêtement), cloisons, etc. Prendre 1,5KN/m2 mini (parquet + cloison placo)
A17: Q longue durée | B17: ='Verif Poutre'!C36/100*0.2 -> 0.3 | C17: =B17*$B$8 -> 0.36 | D17: =IF(OR(AND(B19<>0,B19<>""),AND(B20<>0,B20<>"")),1,1.2) -> 1.2 | E17: =D17*$C17 -> 0.432 | F17: 1.5 | G17: =F17*$C17 -> 0.54 | L17: 20% de la surcharge d'exploitation (meubles) = 0,3kN pour habitation
A18: Q courte durée | B18: ='Verif Poutre'!C36/100*0.8 -> 1.2 | C18: =B18*$B$8 -> 1.44 | D18: =IF(OR(AND(B19<>0,B19<>""),AND(B20<>0,B20<>"")),1,1.2) -> 1.2 | E18: =D18*$C18 -> 1.728 | F18: 1.5 | G18: =F18*$C18 -> 2.16 | L18: 80% de la surcharge d'exploitation (les gens) = 1,2kN pour habitation
A19: W (Vent normal NV65) | B19: ='Verif Poutre'!C37/100 -> 0 | C19: =B19*$B$8 -> 0 | D19: =IF(B19<>0,1,0) -> 0 | E19: =D19*$C19 -> 0 | F19: =IF(B19<>0,1.1*1.75,0) -> 0 | G19: =F19*$C19 -> 0 | L19: Vent, à calculer suivant NV65, de l'ordre de 0,5kN/m2 en soulèvement à l'ELS sur toiture plate, jusqu'à 1kN/m2 et plus sur mur ou toiture fortement inclinée (pression ou dépression)
A20: N (Neige normal NV65) | B20: ='Verif Poutre'!C38/100 -> 0 | C20: =B20*$B$8 -> 0 | D20: =IF(B20<>0,IF(B19<>0,0.5,1),0) -> 0 | E20: =D20*$C20 -> 0 | F20: =IF(B20<>0,IF(B19<>0,0.55*1.75,1.1*1.75),0) -> 0 | G20: =F20*$C20 -> 0 | L20: Neige, à calculer suivant NV65, de l'ordre de 0,5KN/m2 dans le sud et pour altitude inférieure à 200m, jusqu'à 1KN/m2 et plus ailleurs
A22: Vérif de la flèche:
A24: Charge longue durée | B24: [kN/ml] | C24: =C15+C16+C17 -> 2.36625
A25: charge courte durée | B25: [kN/ml] | C25: =C18+C19+C20 -> 1.44
A26: charge TOTAL | B26: [kN/ml] | C26: =SUM(C15:C20) -> 3.80625 | E26: =SUM(E15:E20) -> 4.16625 | G26: =SUM(G15:G20) -> 4.906875
A27: Moment longue durée | B27: [kN.m] | C27: =C24*$B$9^2/8 -> 5.9895703
A28: Moment courte durée durée | B28: [kN.m] | C28: =C25*$B$9^2/8 -> 3.645
A29: Moment TOTAL | B29: [kN.m] | C29: =C26*$B$9^2/8 -> 9.6345703 | E29: =E26*$B$9^2/8 -> 10.54582 | G29: =G26*$B$9^2/8 -> 12.420527
A30: sr long | B30: [bars] | C30: =C27*10^4/($D$208/($D$204/2)) -> 38.33325
A31: sr inst | B31: [bars] | C31: =C28*10^4/($D$208/($D$204/2)) -> 23.328
A32: sr totale | B32: [bars] | C32: =C29*10^4/($D$208/($D$204/2)) -> 61.66125 | E32: =E29*10^4/($D$208/($D$204/2)) -> 67.49325 | G32: =G29*10^4/($D$208/($D$204/2)) -> 79.491375
A33: s _ f | B33: [bars] | C33: =$C$125 -> 109 | E33: =$C$125 -> 109 | G33: =F125 -> 190.75
C35: =C30/C33 -> 0.35168119
A36: H | C36: 0.15 | L36: H = 15% par défaut
A37: D H | C37: 0.05 | L37: D H = 5% par défaut
A38: fluage q | C38: =MAX(1,(1+(C36*100+C37*100)*(C30-0.2*C33)*(15+C37*100)/(240*C33))) -> 1.252802 | E38: critère de flèche :
A39: fréquence propre | C39: =18.07*SQRT(C41*10) -> 58.509996 | D39: Hz
A40: Module | B40: [bars] | C40: =L125 -> 114843.37 | E40: toiture | G40: 1/300
A41: flèche | B41: [cm] | C41: =(C38*(5*C24*B9^4/(384*C40*D208))+(5*C25*B9^4/(384*C40*D208)))*10^8 -> 1.0484406 | E41: plancher | G41: 1/400
C43: =IF(C41<B9*100/400,"OK","FAUX") -> OK | D43: Flèche = | G43: =CONCATENATE("1 / ",ROUNDUP(B9*100/C41,0)," éme") -> 1 / 430 éme | L43: Attention à ne pas sous dimensionner les planchers, la flèche est directement proportionelle au chargement et à la vibration des plancher
L44: Exemple: poids propre d'une cloisson chanvribloc et enduit terre : (0,1*300kg/m2+2*0,02*2000kg/m3)*3m de haut/0,6m entraxe des poutre = 550kg/m2 de charge équivalente --> gsup = 5,5+0,5 = 6KN/m2 !?!
A45: Vérif des contraintes admissibles (au premier genre):
A46: Effort traction | B46: 0 | C46: kN
A47: Effort compression | B47: 0 | C47: kN | D47: Surface d'appui minimum en about de poutre: | L47: Effort de compression éventuel à indiquer, la longueur de flambement est prise égale à la portée.
A48: Moment My | B48: =E29 -> 10.54582 | C48: kN.m | D48: s _'t | E48: =C128 -> 22 | F48: bars
A49: Moment Mz | B49: 0 | C49: kN.m | E49: =B50*100/C128 -> 42.609375 | F49: cm2 | L49: Moment suivant l'autre axe à indiqué, dimenssionant dans le cas d'une panne à dévers, le calcul de la flèche ne tient compte que de MY pas de Mz, il faut donc faire le calcul dans les 2 directions.
A50: Cisaillement | B50: =E26*B9/2 -> 9.3740625 | C50: kN | E50: =ROUNDUP(E49/(B7*100),0) -> 3 | F50: cm | L50: En l'absence de queue d'aronde ou système adéquat de blocage le repos minimum d'une poutre est 5cm.
B52: Aire | C52: Aire | D52: coef. | E52: adm. | F52: calcul | G52: Vérif
B53: nette | C53: brute | D53: q, c, k | E53: s _ x | F53: s
B54: [cm2] | C54: [cm2] | E54: [bars] | F54: [bars]
A55: traction | C55: =IF(B55<>"",B55,$D$209) -> 375 | E55: =C124 -> 87 | F55: =IF(B46<0,"-",B46/C55*100) -> 0 | G55: =F55/E55 -> 0 | L55: L'aire nette tient compte de toutes les entailles
A56: compression | C56: =IF(B56<>"",B56,$D$209) -> 375 | E56: =C123 -> 103 | F56: =B47/C56*100 -> 0 | G56: =F56/E56 -> 0 | L56: Résistance à la compression d'une barre
A57: comp transversale | C57: =IF(B57<>"",B57,$D$209) -> 375 | E57: =C128 -> 22 | F57: =B47/C56*100 -> 0 | G57: =F57/E57 -> 0 | L57: Résistance à la compression transversale de la poutre appuyée sur ou sous le poteau (cas d'un appui d'about)
A58: flambement | C58: =IF(B58<>"",B58,$D$209) -> 375 | D58: =MIN(D214,G214) -> 0.28703704 | E58: =D58*C123 -> 29.564815 | F58: =B47/C58*100 -> 0 | G58: =F58/E58 -> 0 | L58: Le flambement c'est l'effet spaghetti sur un poteau comprimé.
A59: V | C59: =IF(B59<>"",B59,$D$209) -> 375 | E59: =C126 -> 13 | F59: =B50/C59*100*1.5 -> 3.749625 | G59: =F59/E59 -> 0.28843269 | L59: En cas d'entaille en sous face de la poutre au niveau de l'appui, le % indiqué est faux, il est prudent dans ce cas de na pas dépasser 50%.
A60: My | D60: =D150 -> 0.86666667 | E60: =D60*C125 -> 94.466667 | F60: =B48*10^4/(D208/(D204/2)) -> 67.49325 | G60: =F60/E60 -> 0.7144663
A61: Mz | D61: =D60 -> 0.86666667 | E61: =D61*C125 -> 94.466667 | F61: =B49*10^4/(G208/(G204/2)) -> 0 | G61: =F61/E61 -> 0
A62: My+Mz+N | G62: =MAX(G55:G58)+G60+G61 -> 0.7144663
A63: Déversement | G63: =IF(OR(AND(D204/G204>5,D211>37.5),AND(G204/D204>5,G211>37.5)),"RISQUE DEVERSEMENT","OK") -> OK | L63: Si la poutre est plus haute que 4 fois sa largeur, elle doit être stabiliser tout les 60 fois sa largeur et sur appui.
C65: =IF(G65<1,"OK","FAUX") -> OK | F65: Max vérif: | G65: =IF(G63<>"OK",G63,MAX(G55:G62)) -> 0.7144663 | L65: Coefficient de sécurité réglementaire 2,75 à l'ELS par rapport à la rupture en considérant un bois parfait.
A69: Vérif poitrail avec entailles
A70: hauteur | B70: =B6*100 -> 25 | C70: cm
A71: largeur | B71: =B7*100 -> 15 | C71: cm
A72: hauteur entaille | B72: 15 | C72: cm
A73: profondeur entaille | B73: 2.5 | C73: cm
A75: b = | B75: =B71 -> 15 | C75: cm
A76: b' = | B76: =B71-2*B73 -> 10 | C76: cm
A77: e = | B77: =B70-B72 -> 10 | C77: cm
A78: h = | B78: =B70 -> 25 | C78: cm
A80: Ω = | B80: =(B75-B76)*B77+B76*B78 -> 300 | C80: cm2
A82: mx' = | B82: =1/2*((B75-B76)*B77^2+B76*B78^2) -> 3375
A83: v = | B83: =B82/B80 -> 11.25
A84: v' = | B84: =B78-B83 -> 13.75
A86: Ix' = | B86: =1/3*((B75-B76)*B77^3+B76*B78^3) -> 53750 | C86: cm4
A87: Ix = | B87: =B86-B82*B83 -> 15781.25 | C87: cm4
A89: σ = | B89: =B48/(B87*10^-8/(B84*10^-2))/100 -> 91.884375 | C89: bar | E89: =E60 -> 94.466667 | G89: =B89/E89 -> 0.97266452
A90: σ = | B90: =B48/(B87*10^-8/(B83*10^-2))/100 -> 75.178125 | C90: bar
A91: flèche = | B91: =(C38*(5*C24*B9^4/(384*C40*B87))+(5*C25*B9^4/(384*C40*B87)))*10^8 -> 1.297575 | C91: cm | D91: =IF(B91<B9*100/400,"OK","FAUX") -> FAUX | E91: Flèche = | G91: =CONCATENATE("1 / ",ROUNDUP(B9*100/B91,0)," éme") -> 1 / 347 éme
A98: =CONCATENATE("CB 71 / Contraintes admissibles forfaitaires pour une humidité de ",C122," %") -> CB 71 / Contraintes admissibles forfaitaires pour une humidité de 15 %
Q99: humidité du bois | S99: %
F100: TABLEAU 3 | Q100: construction achevée
F101: (avec un coefficient de sécurité de 2.75)
A103: Mode de sollicitation | B103: Contrainte de base forfaitaire pour bois sans défaut (en bars) | E103: Contraintes admissibles forfaitaires (en bars)
E104: Catégorie I | G104: Catégorie II | I104: Catégorie III
B105: Colonne 1 | E105: Colonne 2 | G105: Colonne 3 | I105: Colonne 4 | U105: TABLEAU 4 | AF105: TABLEAU 5
U106: Résineux | AF106: Chêne
B107: Chêne | C107: Résineux | E107: Chêne | F107: Résineux | G107: Chêne | H107: Résineux | I107: Chêne | J107: Résineux
L108: Humidité du bois en % | M108: =ROUNDDOWN(C122/2.5,0)*2.5 -> 15 | N108: =ROUNDUP(C122/2.5,0)*2.5 -> 15 | O108: =C122 -> 15 | Q108: Humidité du bois en % | R108: 7.5 | S108: 10 | T108: 12.5 | U108: 15 | V108: 17.5 | W108: 20 | X108: 22.5 | Y108: 25 | Z108: 30 | AB108: Humidité du bois en % | AC108: 7.5 | AD108: 10 | AE108: 12.5 | AF108: 15 | AG108: 17.5 | AH108: 20 | AI108: 22.5 | AJ108: 25 | AK108: 30
A109: Compression axiale | B109: =$O109*190 -> 190 | C109: =$O109*180 -> 180 | D109: s _ ' | E109: =$O109*136 -> 136 | F109: =$O109*131 -> 131 | G109: =$O109*109 -> 109 | H109: =$O109*103 -> 103 | I109: =$O109*98 -> 98 | J109: =$O109*82 -> 82 | L109: Compression axiale | M109: =IF($C$120="RESINEUX",HLOOKUP(M$108,$R$108:$Z$114,2,TRUE),IF($C$120="CHENE",HLOOKUP(M$108,$AC$108:$AK$114,2,TRUE))) -> 1 | N109: =IF($C$120="RESINEUX",HLOOKUP(N$108,$R$108:$Z$114,2,TRUE),IF($C$120="CHENE",HLOOKUP(N$108,$AC$108:$AK$114,2,TRUE))) -> 1 | O109: =IF($M$108=$N$108,M109,M109-(M109-N109)/($M$108-$N$108)*($M$108-$C$122)) -> 1 | Q109: Compression axiale | R109: =1.3-0.1*(R$108-7.5)/2.5 -> 1.3 | S109: =1.3-0.1*(S$108-7.5)/2.5 -> 1.2 | T109: =1.3-0.1*(T$108-7.5)/2.5 -> 1.1 | U109: =1.3-0.1*(U$108-7.5)/2.5 -> 1 | V109: =1.3-0.1*(V$108-7.5)/2.5 -> 0.9 | W109: =1.3-0.1*(W$108-7.5)/2.5 -> 0.8 | X109: =1.3-0.1*(X$108-7.5)/2.5 -> 0.7 | Y109: =1.3-0.1*(Y$108-7.5)/2.5 -> 0.6 | Z109: =1.3-0.1*(Z$108-7.5)/2.5 -> 0.4 | AB109: Compression axiale | AC109: 1.25 | AD109: 1.175 | AE109: 1.1 | AF109: 1 | AG109: 0.9 | AH109: 0.8 | AI109: 0.775 | AJ109: 0.65 | AK109: 0.475
A110: Traction oblique | B110: =$O110*435 -> 435 | C110: =$O110*363 -> 363 | D110: s _ | E110: =$O110*164 -> 164 | F110: =$O110*152 -> 152 | G110: =$O110*98 -> 98 | H110: =$O110*87 -> 87 | I110: =$O110*38 -> 38 | J110: =$O110*27 -> 27 | L110: Traction oblique | M110: =IF($C$120="RESINEUX",HLOOKUP(M$108,$R$108:$Z$114,3,TRUE),IF($C$120="CHENE",HLOOKUP(M$108,$AC$108:$AK$114,3,TRUE))) -> 1 | N110: =IF($C$120="RESINEUX",HLOOKUP(N$108,$R$108:$Z$114,2,TRUE),IF($C$120="CHENE",HLOOKUP(N$108,$AC$108:$AK$114,2,TRUE))) -> 1 | O110: =IF($M$108=$N$108,M110,M110-(M110-N110)/($M$108-$N$108)*($M$108-$C$122)) -> 1 | Q110: Traction oblique | R110: =1.15-0.05*(R$108-7.5)/2.5 -> 1.15 | S110: =1.15-0.05*(S$108-7.5)/2.5 -> 1.1 | T110: =1.15-0.05*(T$108-7.5)/2.5 -> 1.05 | U110: =1.15-0.05*(U$108-7.5)/2.5 -> 1 | V110: =1.15-0.05*(V$108-7.5)/2.5 -> 0.95 | W110: =1.15-0.05*(W$108-7.5)/2.5 -> 0.9 | X110: =1.15-0.05*(X$108-7.5)/2.5 -> 0.85 | Y110: =1.15-0.05*(Y$108-7.5)/2.5 -> 0.8 | Z110: =1.15-0.05*(Z$108-7.5)/2.5 -> 0.7 | AB110: Traction oblique | AC110: =1.15-0.05*(AC$108-7.5)/2.5 -> 1.15 | AD110: =1.15-0.05*(AD$108-7.5)/2.5 -> 1.1 | AE110: =1.15-0.05*(AE$108-7.5)/2.5 -> 1.05 | AF110: =1.15-0.05*(AF$108-7.5)/2.5 -> 1 | AG110: =1.15-0.05*(AG$108-7.5)/2.5 -> 0.95 | AH110: =1.15-0.05*(AH$108-7.5)/2.5 -> 0.9 | AI110: =1.15-0.05*(AI$108-7.5)/2.5 -> 0.85 | AJ110: =1.15-0.05*(AJ$108-7.5)/2.5 -> 0.8 | AK110: =1.15-0.05*(AK$108-7.5)/2.5 -> 0.7
A111: Flexion statique | B111: =$O111*212 -> 212 | C111: =$O111*202 -> 202 | D111: s _ f | E111: =$O111*147 -> 147 | F111: =$O111*142 -> 142 | G111: =$O111*125 -> 125 | H111: =$O111*109 -> 109 | I111: =$O111*109 -> 109 | J111: =$O111*87 -> 87 | L111: Flexion statique | M111: =M110 -> 1 | N111: =N110 -> 1 | O111: =IF($M$108=$N$108,M111,M111-(M111-N111)/($M$108-$N$108)*($M$108-$C$122)) -> 1 | Q111: Flexion statique | R111: =R110 -> 1.15 | S111: =S110 -> 1.1 | T111: =T110 -> 1.05 | U111: =U110 -> 1 | V111: =V110 -> 0.95 | W111: =W110 -> 0.9 | X111: =X110 -> 0.85 | Y111: =Y110 -> 0.8 | Z111: =Z110 -> 0.7 | AB111: Flexion statique | AC111: =AC110 -> 1.15 | AD111: =AD110 -> 1.1 | AE111: =AE110 -> 1.05 | AF111: =AF110 -> 1 | AG111: =AG110 -> 0.95 | AH111: =AH110 -> 0.9 | AI111: =AI110 -> 0.85 | AJ111: =AJ110 -> 0.8 | AK111: =AK110 -> 0.7
A112: Cisaillement longitudinal | B112: =$O112*27 -> 27 | C112: =$O112*22 -> 22 | D112: t _ | E112: =$O112*22 -> 22 | F112: =$O112*16 -> 16 | G112: =$O112*16 -> 16 | H112: =$O112*13 -> 13 | I112: =$O112*13 -> 13 | J112: =$O112*11 -> 11 | L112: Cisaillement longitudinal | M112: =M109 -> 1 | N112: =N109 -> 1 | O112: =IF($M$108=$N$108,M112,M112-(M112-N112)/($M$108-$N$108)*($M$108-$C$122)) -> 1 | Q112: Cisaillement longitudinal | R112: =R109 -> 1.3 | S112: =S109 -> 1.2 | T112: =T109 -> 1.1 | U112: =U109 -> 1 | V112: =V109 -> 0.9 | W112: =W109 -> 0.8 | X112: =X109 -> 0.7 | Y112: =Y109 -> 0.6 | Z112: =Z109 -> 0.4 | AB112: Cisaillement longitudinal | AC112: =AC109 -> 1.25 | AD112: =AD109 -> 1.175 | AE112: =AE109 -> 1.1 | AF112: =AF109 -> 1 | AG112: =AG109 -> 0.9 | AH112: =AH109 -> 0.8 | AI112: =AI109 -> 0.775 | AJ112: =AJ109 -> 0.65 | AK112: =AK109 -> 0.475
A113: Traction transversale sans cisaillement | B113: =$O113*16 -> 16 | C113: =$O113*12 -> 12 | D113: s _ t | E113: =$O113*13 -> 13 | F113: =$O113*9 -> 9 | G113: =$O113*11 -> 11 | H113: =$O113*7 -> 7 | I113: =$O113*0 -> 0 | J113: =$O113*0 -> 0 | L113: Traction transversale sans cisaillement | M113: =M109 -> 1 | N113: =N109 -> 1 | O113: =IF($M$108=$N$108,M113,M113-(M113-N113)/($M$108-$N$108)*($M$108-$C$122)) -> 1 | Q113: Traction transversale sans cisaillement | R113: =R109 -> 1.3 | S113: =S109 -> 1.2 | T113: =T109 -> 1.1 | U113: =U109 -> 1 | V113: =V109 -> 0.9 | W113: =W109 -> 0.8 | X113: =X109 -> 0.7 | Y113: =Y109 -> 0.6 | Z113: =Z109 -> 0.4 | AB113: Traction transversale sans cisaillement | AC113: =AC109 -> 1.25 | AD113: =AD109 -> 1.175 | AE113: =AE109 -> 1.1 | AF113: =AF109 -> 1 | AG113: =AG109 -> 0.9 | AH113: =AH109 -> 0.8 | AI113: =AI109 -> 0.775 | AJ113: =AJ109 -> 0.65 | AK113: =AK109 -> 0.475
A114: Compression transversale | B114: =$O114*54 -> 54 | C114: =$O114*30 -> 30 | D114: s _'t | E114: =$O114*49 -> 49 | F114: =$O114*27 -> 27 | G114: =$O114*39 -> 39 | H114: =$O114*22 -> 22 | I114: =$O114*32 -> 32 | J114: =$O114*17 -> 17 | L114: Compression transversale | M114: =M109 -> 1 | N114: =N109 -> 1 | O114: =IF($M$108=$N$108,M114,M114-(M114-N114)/($M$108-$N$108)*($M$108-$C$122)) -> 1 | Q114: Compression transversale | R114: =R109 -> 1.3 | S114: =S109 -> 1.2 | T114: =T109 -> 1.1 | U114: =U109 -> 1 | V114: =V109 -> 0.9 | W114: =W109 -> 0.8 | X114: =X109 -> 0.7 | Y114: =Y109 -> 0.6 | Z114: =Z109 -> 0.4 | AB114: Compression transversale | AC114: =AC109 -> 1.25 | AD114: =AD109 -> 1.175 | AE114: =AE109 -> 1.1 | AF114: =AF109 -> 1 | AG114: =AG109 -> 0.9 | AH114: =AH109 -> 0.8 | AI114: =AI109 -> 0.775 | AJ114: =AJ109 -> 0.65 | AK114: =AK109 -> 0.475
A117: Mode de sollicitation | C117: Contraintes admissibles forfaitaires (en bars) | E117: Limite d'élasticité des bois (en bars) | L117: Module conventionel des bois massif (en bars)
C118: Catégorie
C119: =G8 -> 2
C120: =G6 -> RESINEUX | E120: =G7 -> MASSIF | L120: =E120 -> MASSIF
C121: Humidité en %
C122: =C36*100 -> 15
A123: Compression axiale | B123: s _ ' | C123: =IF(AND($C$120="RESINEUX",$C$119=1),F109,IF(AND($C$120="RESINEUX",$C$119=2),H109,IF(AND($C$120="RESINEUX",$C$119=3),J109,IF(AND($C$120="CHENE",$C$119=1),E109,IF(AND($C$120="CHENE",$C$119=2),G109,IF(AND($C$120="CHENE",$C$119=3),I109)))))) -> 103 | E123: =IF(OR($E$120="MASSIF",$E$120="LAMELLE"),150%,IF($E$120="CONTRE PLAQUE",150%)) -> 1.5 | F123: =E123*C123 -> 154.5 | H123: compression | K123: Ec | L123: =IF($E$120="MASSIF",IF($C$120="CHENE",12000*SQRT(C123),IF($C$120="RESINEUX",11000*SQRT(C123))),IF($E$120="LAMELLE",IF($C$120="CHENE",11400*SQRT(C123),IF($C$120="RESINEUX",11500*SQRT(C123))))) -> 111637.81 | O123: =L123/SQRT(C123) -> 11000
A124: Traction oblique | B124: s _ | C124: =IF(AND($C$120="RESINEUX",$C$119=1),F110,IF(AND($C$120="RESINEUX",$C$119=2),H110,IF(AND($C$120="RESINEUX",$C$119=3),J110,IF(AND($C$120="CHENE",$C$119=1),E110,IF(AND($C$120="CHENE",$C$119=2),G110,IF(AND($C$120="CHENE",$C$119=3),I110)))))) -> 87 | E124: =IF(OR($E$120="MASSIF",$E$120="LAMELLE"),225%,IF($E$120="CONTRE PLAQUE",150%)) -> 2.25 | F124: =E124*C124 -> 195.75 | H124: traction | K124: ET | L124: =IF($E$120="MASSIF",IF($C$120="CHENE",12000*SQRT(C124),IF($C$120="RESINEUX",11000*SQRT(C124))),IF($E$120="LAMELLE",IF($C$120="CHENE",11400*SQRT(C124),IF($C$120="RESINEUX",11500*SQRT(C124))))) -> 102601.17 | O124: =L124/SQRT(C124) -> 11000
A125: Flexion statique | B125: s _ f | C125: =IF(AND($C$120="RESINEUX",$C$119=1),F111,IF(AND($C$120="RESINEUX",$C$119=2),H111,IF(AND($C$120="RESINEUX",$C$119=3),J111,IF(AND($C$120="CHENE",$C$119=1),E111,IF(AND($C$120="CHENE",$C$119=2),G111,IF(AND($C$120="CHENE",$C$119=3),I111)))))) -> 109 | E125: =IF(OR($E$120="MASSIF",$E$120="LAMELLE"),175%,IF($E$120="CONTRE PLAQUE",150%)) -> 1.75 | F125: =E125*C125 -> 190.75 | H125: flexion et cisaillement | K125: E'F | L125: =IF($E$120="MASSIF",IF($C$120="CHENE",12000*SQRT(C125),IF($C$120="RESINEUX",11000*SQRT(C125))),IF($E$120="LAMELLE",IF($C$120="CHENE",11400*SQRT(C125),IF($C$120="RESINEUX",11500*SQRT(C125))))) -> 114843.37 | O125: =L125/SQRT(C125) -> 11000
A126: Cisaillement longitudinal | B126: t _ | C126: =IF(AND($C$120="RESINEUX",$C$119=1),F112,IF(AND($C$120="RESINEUX",$C$119=2),H112,IF(AND($C$120="RESINEUX",$C$119=3),J112,IF(AND($C$120="CHENE",$C$119=1),E112,IF(AND($C$120="CHENE",$C$119=2),G112,IF(AND($C$120="CHENE",$C$119=3),I112)))))) -> 13 | E126: =IF(OR($E$120="MASSIF",$E$120="LAMELLE"),150%,IF($E$120="CONTRE PLAQUE",150%)) -> 1.5 | F126: =E126*C126 -> 19.5 | H126: cisaillement seul | K126: EG | L126: =IF($E$120="MASSIF",300*SQRT(C125),IF($E$120="LAMELLE",310*SQRT(C125))) -> 3132.092 | O126: =L126/SQRT(C125) -> 300
A127: Traction transversale sans cisaillement | B127: s _ t | C127: =IF(AND($C$120="RESINEUX",$C$119=1),F113,IF(AND($C$120="RESINEUX",$C$119=2),H113,IF(AND($C$120="RESINEUX",$C$119=3),J113,IF(AND($C$120="CHENE",$C$119=1),E113,IF(AND($C$120="CHENE",$C$119=2),G113,IF(AND($C$120="CHENE",$C$119=3),I113)))))) -> 7 | E127: =IF(OR($E$120="MASSIF",$E$120="LAMELLE"),150%,IF($E$120="CONTRE PLAQUE",150%)) -> 1.5 | F127: =E127*C127 -> 10.5 | H127: torsion | K127: Eq | L127: =IF($E$120="MASSIF",800*SQRT(C125),IF($E$120="LAMELLE",760*SQRT(C125))) -> 8352.2452 | O127: =L127/SQRT(C125) -> 800
...
