Workbook

Sheet Verif Poutre
B2: → Vérification d'une poutre au CB 71 ←
B3: Calculette Bois V. 2
B7: Titre du projet : | C7: Maison en paille
B8: Elément concerné : | C8: Solives plancher
B13: CARACTERISTIQUES DE LA POUTRE
B15: Caractéristiques géométriques | E15: Type de bois
B16: hauteur (h) | C16: 25 | E16: RESINEUX / CHENE | H16: RESINEUX
B17: largeur (b) | C17: 15 | E17: MASSIF / LAMELLE | H17: MASSIF
B18: entraxe (a) | C18: 120 | E18: Catégorie (1,2 ou 3) | H18: 2
B19: portée (L) | C19: 450
B20: densité du bois (kg/m3) | C20: 550
B30: CHARGEMENT DE LA POUTRE
B32: Charges
C33: kg/m2 | D33: Pondération | E33: kg/ml
B34: Poids propre poutre | C34: ='Détail calculs'!B15*100 -> 17.1875 | D34: ='Détail calculs'!D15 -> 1 | E34: ='Détail calculs'!E15*100 -> 20.625
B35: Poids propre additionnel | C35: 150 | D35: ='Détail calculs'!D16 -> 1 | E35: ='Détail calculs'!E16*100 -> 180
B36: Charge d'exploitation | C36: 150 | D36: ='Détail calculs'!D17 -> 1.2 | E36: ='Détail calculs'!E17*100+'Détail calculs'!E18*100 -> 216
B37: Vent | C37: 0 | D37: ='Détail calculs'!D19 -> 0 | E37: ='Détail calculs'!E19 -> 0
B38: Neige | C38: 0 | D38: ='Détail calculs'!D20 -> 0 | E38: ='Détail calculs'!E20 -> 0
B39: TOTAL | E39: =CONCATENATE(ROUND(SUM(E34:E38),0)," kg/ml") -> 417 kg/ml
B46: RESULTATS
B48: Résultats ELS (1er genre)
B49: Charge totale sur la poutre | C49: =2*C50 -> 1874.8125
B50: Charge par appui | C50: ='Détail calculs'!B50*100 -> 937.40625 | E50: profondeur mini d'appui : | G50: =CONCATENATE(ROUND('Détail calculs'!E49,0), " cm2 soit ") -> 43 cm2 soit | H50: =CONCATENATE(ROUND('Détail calculs'!E50,0)," cm") -> 3 cm
B51: Contrainte de cisaillement | C51: ='Détail calculs'!F59 -> 3.749625 | E51: =IF('Détail calculs'!G59<1,"OK","FAUX") -> OK | G51: ='Détail calculs'!G59 -> 0.28843269
B52: Moment de flexion | C52: ='Détail calculs'!E29*100 -> 1054.582
B53: Contrainte de flexion | C53: ='Détail calculs'!F60 -> 67.49325 | E53: ='Détail calculs'!C65 -> OK | G53: ='Détail calculs'!G65 -> 0.7144663
B54: Flèche | C54: ='Détail calculs'!C41 -> 1.0484406 | E54: ='Détail calculs'!C43 -> OK | G54: ='Détail calculs'!G43 -> 1 / 430 éme

Sheet Détail calculs
A2: Vérif poutre isostatique en bois selon CB71 | L2: Explications:
A5: caractéristique géométrique: | E5: Bois :
A6: hauteur | B6: ='Verif Poutre'!C16/100 -> 0.25 | C6: m | E6: essence | G6: ='Verif Poutre'!H16 -> RESINEUX | L6: RESINEUX ou CHENE
A7: largeur | B7: ='Verif Poutre'!C17/100 -> 0.15 | C7: m | E7: type | G7: ='Verif Poutre'!H17 -> MASSIF | L7: MASSIF ou LAMELLE
A8: entraxe | B8: ='Verif Poutre'!C18/100 -> 1.2 | C8: m | E8: catégorie | G8: ='Verif Poutre'!H18 -> 2 | L8: Prendre par défaut du bois de catégorie 2
A9: portée | B9: ='Verif Poutre'!C19/100 -> 4.5 | C9: m
A10: densité bois | B10: ='Verif Poutre'!C20/100 -> 5.5 | C10: kN/m3
A12: Charges et combinaisons:
D13: premier genre | F13: second genre
B14: kN/m2 | C14: kN/ml | E14: kN/ml | G14: kN/ml | L14: 1kN =100kg
A15: PP | B15: =C15/B8 -> 0.171875 | C15: =D204*G204*B10/10000 -> 0.20625 | D15: 1 | E15: =D15*$C15 -> 0.20625 | F15: 1.1 | G15: =F15*$C15 -> 0.226875 | L15: Poids propre de la poutre
A16: Gsup | B16: ='Verif Poutre'!C35/100 -> 1.5 | C16: =B16*$B$8 -> 1.8 | D16: 1 | E16: =D16*$C16 -> 1.8 | F16: 1.1 | G16: =F16*$C16 -> 1.98 | L16: Poids Propre des autres structures du plancher (platelage, revêtement), cloisons, etc. Prendre 1,5KN/m2 mini (parquet + cloison placo)
A17: Q longue durée | B17: ='Verif Poutre'!C36/100*0.2 -> 0.3 | C17: =B17*$B$8 -> 0.36 | D17: =IF(OR(AND(B19<>0,B19<>""),AND(B20<>0,B20<>"")),1,1.2) -> 1.2 | E17: =D17*$C17 -> 0.432 | F17: 1.5 | G17: =F17*$C17 -> 0.54 | L17: 20% de la surcharge d'exploitation (meubles) = 0,3kN pour habitation
A18: Q courte durée | B18: ='Verif Poutre'!C36/100*0.8 -> 1.2 | C18: =B18*$B$8 -> 1.44 | D18: =IF(OR(AND(B19<>0,B19<>""),AND(B20<>0,B20<>"")),1,1.2) -> 1.2 | E18: =D18*$C18 -> 1.728 | F18: 1.5 | G18: =F18*$C18 -> 2.16 | L18: 80% de la surcharge d'exploitation (les gens) = 1,2kN pour habitation
A19: W (Vent normal NV65) | B19: ='Verif Poutre'!C37/100 -> 0 | C19: =B19*$B$8 -> 0 | D19: =IF(B19<>0,1,0) -> 0 | E19: =D19*$C19 -> 0 | F19: =IF(B19<>0,1.1*1.75,0) -> 0 | G19: =F19*$C19 -> 0 | L19: Vent, à calculer suivant NV65, de l'ordre de 0,5kN/m2 en soulèvement à l'ELS sur toiture plate, jusqu'à 1kN/m2 et plus sur mur ou toiture fortement inclinée (pression ou dépression)
A20: N (Neige normal NV65) | B20: ='Verif Poutre'!C38/100 -> 0 | C20: =B20*$B$8 -> 0 | D20: =IF(B20<>0,IF(B19<>0,0.5,1),0) -> 0 | E20: =D20*$C20 -> 0 | F20: =IF(B20<>0,IF(B19<>0,0.55*1.75,1.1*1.75),0) -> 0 | G20: =F20*$C20 -> 0 | L20: Neige, à calculer suivant NV65, de l'ordre de 0,5KN/m2 dans le sud et pour altitude inférieure à 200m, jusqu'à 1KN/m2 et plus ailleurs
A22: Vérif de la flèche:
A24: Charge longue durée | B24: [kN/ml] | C24: =C15+C16+C17 -> 2.36625
A25: charge courte durée | B25: [kN/ml] | C25: =C18+C19+C20 -> 1.44
A26: charge TOTAL | B26: [kN/ml] | C26: =SUM(C15:C20) -> 3.80625 | E26: =SUM(E15:E20) -> 4.16625 | G26: =SUM(G15:G20) -> 4.906875
A27: Moment longue durée | B27: [kN.m] | C27: =C24*$B$9^2/8 -> 5.9895703
A28: Moment courte durée durée | B28: [kN.m] | C28: =C25*$B$9^2/8 -> 3.645
A29: Moment TOTAL | B29: [kN.m] | C29: =C26*$B$9^2/8 -> 9.6345703 | E29: =E26*$B$9^2/8 -> 10.54582 | G29: =G26*$B$9^2/8 -> 12.420527
A30: sr long | B30: [bars] | C30: =C27*10^4/($D$208/($D$204/2)) -> 38.33325
A31: sr inst | B31: [bars] | C31: =C28*10^4/($D$208/($D$204/2)) -> 23.328
A32: sr totale | B32: [bars] | C32: =C29*10^4/($D$208/($D$204/2)) -> 61.66125 | E32: =E29*10^4/($D$208/($D$204/2)) -> 67.49325 | G32: =G29*10^4/($D$208/($D$204/2)) -> 79.491375
A33: s _ f | B33: [bars] | C33: =$C$125 -> 109 | E33: =$C$125 -> 109 | G33: =F125 -> 190.75
C35: =C30/C33 -> 0.35168119
A36: H | C36: 0.15 | L36: H = 15% par défaut
A37: D H | C37: 0.05 | L37: D H = 5% par défaut
A38: fluage q | C38: =MAX(1,(1+(C36*100+C37*100)*(C30-0.2*C33)*(15+C37*100)/(240*C33))) -> 1.252802 | E38: critère de flèche :
A39: fréquence propre | C39: =18.07*SQRT(C41*10) -> 58.509996 | D39: Hz
A40: Module | B40: [bars] | C40: =L125 -> 114843.37 | E40: toiture | G40: 1/300
A41: flèche | B41: [cm] | C41: =(C38*(5*C24*B9^4/(384*C40*D208))+(5*C25*B9^4/(384*C40*D208)))*10^8 -> 1.0484406 | E41: plancher | G41: 1/400
C43: =IF(C41<B9*100/400,"OK","FAUX") -> OK | D43: Flèche = | G43: =CONCATENATE("1 / ",ROUNDUP(B9*100/C41,0)," éme") -> 1 / 430 éme | L43: Attention à ne pas sous dimensionner les planchers, la flèche est directement proportionelle au chargement et à la vibration des plancher
L44: Exemple: poids propre d'une cloisson chanvribloc et enduit terre : (0,1*300kg/m2+2*0,02*2000kg/m3)*3m de haut/0,6m entraxe des poutre = 550kg/m2 de charge équivalente --> gsup = 5,5+0,5 = 6KN/m2 !?!
A45: Vérif des contraintes admissibles (au premier genre):
A46: Effort traction | B46: 0 | C46: kN
A47: Effort compression | B47: 0 | C47: kN | D47: Surface d'appui minimum en about de poutre: | L47: Effort de compression éventuel à indiquer, la longueur de flambement est prise égale à la portée.
A48: Moment My | B48: =E29 -> 10.54582 | C48: kN.m | D48: s _'t | E48: =C128 -> 22 | F48: bars
...
