Workbook

Sheet Avant métré
A4: N° | B4: Désignation | D4: Nombre | E4: Dimensions | H4: Acier | K4: U | L4: Quantité
E5: L | F5: l | G5: h | H5: Ф (mm) | I5: masse (kg/m) | J5: St (m) | L5: Partielle | M5: Totale
A6: ① | B6: TERRASSEMENT
A7: 1.1 | B7: Décapage des terres végétales d'épaisseur 10cm | E7: =18.8+1*2 -> 20.8 | F7: =15.45+1*2 -> 17.45 | G7: 0.1 | K7: m3 | L7: =E7*F7*G7 -> 36.296 | M7: =L7 -> 36.296
A8: 1.2 | B8: Fouilles en rigole 45x50cm2 | E8: 175.56 | F8: =0.45 -> 0.45 | G8: 0.5 | K8: m3 | L8: =E8*F8*G8 -> 39.501 | M8: =L8 -> 39.501
A9: 1.3 | B9: Remblai des terres provenant des fouilles | E9: 175.56 | F9: =0.45 -> 0.45 | G9: 0.5 | K9: m3 | L9: =(E9*F9*G9)*1.5 -> 59.2515 | M9: =L9 -> 59.2515
A10: 1.4 | B10: Lit de sable de 5cm pour l'assise du film polyane | E10: 18.8 | F10: 15.45 | K10: m2 | L10: =E10*F10 -> 290.46 | M10: =L10 -> 290.46
A11: 1.5 | B11: Fourniture et pose du film polyane 180 microns | E11: 18.8 | F11: 15.45 | K11: m2 | L11: =E11*F11 -> 290.46 | M11: =L11 -> 290.46
A12: 1.6 | B12: Remblai d'apport compacté soigneusement chaque 20cm | E12: 18.8 | F12: 15.45 | K12: m2 | L12: =0.5*(E12*F12)-L8 -> 105.729 | M12: =L12 -> 105.729
A13: ② | B13: FONDATION
A14: 2.1 | B14: Béton de propreté sous semmelles dosé à 150kg/m3 | E14: 175.56 | F14: 0.45 | G14: 0.05 | K14: m3 | L14: =E14*F14*G14 -> 3.9501 | M14: =L14 -> 3.9501
A15: 2.2 | B15: Béton pour semelles filantes en BA dosé à 350kg/m3 | E15: 175.56 | F15: 0.45 | G15: 0.1 | K15: m3 | L15: =E15*F15*G15 -> 7.9002 | M15: =L15 -> 7.9002
A16: 2.3 | B16: Aciers longitudinaux HA8 pour semelles filantes | D16: 3 | E16: 175.56 | H16: 8 | I16: =(6.165*10^-3)*H16^2 -> 0.39456 | K16: kg | L16: =E16*I16 -> 69.268954 | M16: =D16*L16 -> 207.80686
A17: 2.4 | B17: Epingles HA10 pour semelles filantes | D17: =ROUND(E16/J17,0) -> 878 | E17: =(0.45-0.06)+(10*H17*10^-3)*2 -> 0.59 | H17: 10 | I17: =(6.165*10^-3)*H17^2 -> 0.6165 | J17: 0.2 | K17: kg | L17: =E17*I17 -> 0.363735 | M17: =D17*L17 -> 319.35933
A18: 2.5 | B18: Béton pour poteaux en BA dosé à 350kg/m3 | D18: 45 | E18: =0.5-(0.05+0.1) -> 0.35 | F18: 0.2 | G18: 0.2 | K18: m3 | L18: =E18*F18*G18 -> 0.014 | M18: =D18*L18 -> 0.63
A19: 2.6 | B19: Aciers longitutdinaux HA10 | D19: 4 | E19: =20*H19*10^-3+0.5+60*H19*10^-3 -> 1.3 | H19: 10 | I19: =(6.165*10^-3)*H19^2 -> 0.6165 | K19: kg | L19: =E19*I19*D18 -> 36.06525 | M19: =D19*L19 -> 144.261
A20: 2.7 | B20: Cadres HA6 | D20: =ROUND(0.5/J20,0) -> 3 | E20: =(0.14*4+2*10*H20*10^-3) -> 0.68 | H20: 6 | I20: =(6.165*10^-3)*H20^2 -> 0.22194 | J20: 0.2 | K20: kg | L20: =E20*I20*D18 -> 6.791364 | M20: =D20*L20 -> 20.374092
A21: 2.8 | B21: Coffrage en bois en fond de 20cm | D21: 4 | F21: 0.2 | G21: 0.5 | K21: m2 | L21: =F21*G21*D18 -> 4.5 | M21: =D21*L21 -> 18
A22: 2.9 | B22: Maçonnerie en agglos de 20cm | E22: 175.56 | G22: =E18 -> 0.35 | K22: m2 | L22: =E22*G22 -> 61.446 | M22: =L22 -> 61.446
A23: 2.10 | B23: Béton pour chainage bas dosé à 350kg/m3 | E23: 175.56 | F23: 0.2 | G23: 0.2 | K23: m3 | L23: =E23*F23*G23 -> 7.0224 | M23: =L23 -> 7.0224
A24: 2.11 | B24: Aciers longitutdinaux HA8 | D24: 4 | E24: 175.56 | H24: 8 | I24: =(6.165*10^-3)*H24^2 -> 0.39456 | K24: kg | L24: =E24*I24 -> 69.268954 | M24: =D24*L24 -> 277.07581
A25: 2.12 | B25: Cadres HA6 | D25: =ROUND(E24/J25,0) -> 878 | E25: =(0.14*4+2*10*H25*10^-3) -> 0.68 | H25: 6 | I25: =(6.165*10^-3)*H25^2 -> 0.22194 | J25: 0.2 | K25: kg | L25: =E25*I25 -> 0.1509192 | M25: =D25*L25 -> 132.50706
A26: 2.13 | B26: Coffrage en bois en fond de 20cm | D26: 2 | E26: 175.56 | F26: 0.2 | K26: m2 | L26: =E26*F26 -> 35.112 | M26: =D26*L26 -> 70.224
A27: 2.14 | B27: Béton pour dallage d'épaisseur 8cm dosé à 300kg/m3 | E27: 18.8 | F27: 15.45 | G27: 0.08 | K27: m3 | L27: =E27*F27*G27 -> 23.2368 | M27: =L27 -> 23.2368
A28: ③ | B28: ELEVATION
A29: 3.1 | B29: RDC
A30: 3.1.1 | B30: Béton pour poteaux dosé à 350kg/m3 | D30: 45 | E30: 2.8 | F30: 0.2 | G30: 0.2 | K30: m3 | L30: =E30*F30*G30 -> 0.112 | M30: =D30*L30 -> 5.04
A31: 3.1.2 | B31: Aciers longitutdinaux HA10 | D31: 45 | E31: 2.8 | H31: 10 | I31: =(6.165*10^-3)*H31^2 -> 0.6165 | K31: kg | L31: =E31*I31 -> 1.7262 | M31: =D31*L31 -> 77.679
A32: 3.1.3 | B32: Cadres HA6 | D32: =ROUND(E31/J32,0) -> 14 | E32: =E20 -> 0.68 | H32: 6 | I32: =(6.165*10^-3)*H32^2 -> 0.22194 | J32: 0.2 | K32: kg | L32: =E32*I32*D31 -> 6.791364 | M32: =D32*L32 -> 95.079096
A33: 3.1.4 | B33: Coffrage en bois en fond de 20cm | D33: 4 | F33: 0.2 | G33: 2.8 | K33: m2 | L33: =F33*G33*D31 -> 25.2 | M33: =D33*L33 -> 100.8
A34: 3.1.5 | B34: Maçonnerie en agglos de 15cm | E34: 175.56 | G34: 2.8 | K34: m2 | L34: =E34*G34 -> 491.568 | M34: =L34 -> 491.568
A35: 3.1.6 | B35: Béton pour lintaux dosé à 350kg/m3 | E35: 175.56 | F35: 0.2 | G35: 0.2 | K35: m3 | L35: =E35*F35*G35 -> 7.0224 | M35: =L35 -> 7.0224
A36: 3.1.7 | B36: Aciers longitutdinaux HA8 | D36: 4 | E36: 175.56 | H36: 8 | I36: =(6.165*10^-3)*H36^2 -> 0.39456 | K36: kg | L36: =E36*I36 -> 69.268954 | M36: =D36*L36 -> 277.07581
A37: 3.1.8 | B37: Cadres HA6 | D37: =ROUND(E36/J37,0) -> 878 | E37: =E32 -> 0.68 | H37: 6 | I37: =(6.165*10^-3)*H37^2 -> 0.22194 | J37: 0.2 | K37: kg | L37: =E37*I37 -> 0.1509192 | M37: =D37*L37 -> 132.50706
A38: 3.1.9 | B38: Coffrage en bois en fond de 20cm | D38: 2 | E38: 175.56 | F38: 0.2 | K38: m2 | L38: =E38*F38 -> 35.112 | M38: =D38*L38 -> 70.224
A39: 3.1.10 | B39: Béton pour chainage haut dosé à 350kg/m3 | E39: 175.56 | F39: 0.2 | G39: 0.2 | K39: m3 | L39: =E39*F39*G39 -> 7.0224 | M39: =L39 -> 7.0224
A40: 3.1.11 | B40: Aciers longitutdinaux HA8 | D40: 4 | E40: 175.56 | H40: 8 | I40: =(6.165*10^-3)*H40^2 -> 0.39456 | K40: kg | L40: =E40*I40 -> 69.268954 | M40: =D40*L40 -> 277.07581
A41: 3.1.12 | B41: Cadres HA6 | D41: =ROUND(E40/J41,0) -> 878 | E41: =E37 -> 0.68 | H41: 6 | I41: =(6.165*10^-3)*H41^2 -> 0.22194 | J41: 0.2 | K41: kg | L41: =E41*I41 -> 0.1509192 | M41: =D41*L41 -> 132.50706
A42: 3.1.13 | B42: Coffrage en bois en fond de 20cm | D42: 2 | E42: 175.56 | F42: 0.2 | I42: =(6.165*10^-3)*H42^2 -> 0 | K42: m2 | L42: =E42*F42 -> 35.112 | M42: =D42*L42 -> 70.224
A43: 3.1.14 | B43: Béton pour plancher haut (dalle en BA) d'épaisseur 15cm dosé à 350kg/m3 | E43: 18.8 | F43: 15.45 | G43: 0.15 | I43: =(6.165*10^-3)*H43^2 -> 0 | K43: m3 | L43: =E43*F43*G43 -> 43.569 | M43: =L43 -> 43.569
...

Sheet DQE
A4: N° | B4: Désignation | D4: U | E4: Quantité | F4: P.U | G4: P.T
A6: ⓪ | B6: TRVAUX PREPARATOIRES
B7: Installation et replis de chantier | D7: fft | E7: Ens | F7: 400000 | G7: =SUM(F7) -> 400000
B8: Evacuation des gravat à la decharge publique | D8: fft | E8: Ens | F8: 100000 | G8: =SUM(F8) -> 100000
B9: Implantation | D9: fft | E9: Ens | F9: 100000 | G9: =SUM(F9) -> 100000
A10: Sous total 0 | G10: =SUM(G7:G9) -> 600000
A11: ① | B11: TERRASSEMENT
A12: 1.1 | B12: Décapage des terres végétales d'épaisseur 10cm | D12: m3 | E12: ='Avant métré'!M7 -> 36.296 | F12: 8500 | G12: =E12*F12 -> 308516
A13: 1.2 | B13: Fouilles en rigole 45x50cm2 | D13: m3 | E13: ='Avant métré'!M8 -> 39.501 | F13: 14700 | G13: =E13*F13 -> 580664.7
A14: 1.3 | B14: Remblai des terres provenant des fouilles | D14: m3 | E14: ='Avant métré'!M9 -> 59.2515 | F14: 6500 | G14: =E14*F14 -> 385134.75 | I14: =0.5*0.45 -> 0.225 | K14: =E13/I14 -> 175.56
A15: 1.4 | B15: Lit de sable de 5cm pour l'assise du film polyane | D15: m2 | E15: ='Avant métré'!M10 -> 290.46 | F15: 6500 | G15: =E15*F15 -> 1887990
A16: 1.5 | B16: Fourniture et pose du film polyane 180 microns | D16: m2 | E16: ='Avant métré'!M11 -> 290.46 | F16: 300 | G16: =E16*F16 -> 87138
A17: 1.6 | B17: Remblai d'apport compacté soigneusement chaque 20cm | D17: m2 | E17: ='Avant métré'!M12 -> 105.729 | F17: 6500 | G17: =E17*F17 -> 687238.5
A18: Sous total 1 | G18: =SUM(G12:G17) -> 3936682
A19: ② | B19: FONDATION
A20: 2.1 | B20: Béton de propreté sous semmelles dosé à 150kg/m3 | D20: m3 | E20: ='Avant métré'!M14 -> 3.9501 | F20: 90000 | G20: =E20*F20 -> 355509
A21: 2.2 | B21: Béton pour semelles filantes en BA dosé à 350kg/m3 | D21: m3 | E21: ='Avant métré'!M15 -> 7.9002 | F21: 150000 | G21: =E21*F21 -> 1185030
A22: 2.3 | B22: Aciers longitudinaux HA8 pour semelles filantes | D22: kg | E22: ='Avant métré'!M16 -> 207.80686 | F22: 1300 | G22: =E22*F22 -> 270148.92
A23: 2.4 | B23: Epingles HA10 pour semelles filantes | D23: kg | E23: ='Avant métré'!M17 -> 319.35933 | F23: 1300 | G23: =E23*F23 -> 415167.13
A24: 2.5 | B24: Béton pour poteaux en BA dosé à 350kg/m3 | D24: m3 | E24: ='Avant métré'!M18 -> 0.63 | F24: 150000 | G24: =E24*F24 -> 94500
A25: 2.6 | B25: Aciers longitutdinaux HA10 | D25: kg | E25: ='Avant métré'!M19 -> 144.261 | F25: 1300 | G25: =E25*F25 -> 187539.3
A26: 2.7 | B26: Cadres HA6 | D26: kg | E26: ='Avant métré'!M20 -> 20.374092 | F26: 1300 | G26: =E26*F26 -> 26486.32
A27: 2.8 | B27: Coffrage en bois en fond de 20cm | D27: m2 | E27: ='Avant métré'!M21 -> 18 | F27: 5000 | G27: =E27*F27 -> 90000
A28: 2.9 | B28: Maçonnerie en agglos de 20cm | D28: m2 | E28: ='Avant métré'!M22 -> 61.446 | F28: 11000 | G28: =E28*F28 -> 675906
A29: 2.10 | B29: Béton pour chainage bas dosé à 350kg/m3 | D29: m3 | E29: ='Avant métré'!M23 -> 7.0224 | F29: 150000 | G29: =E29*F29 -> 1053360
A30: 2.11 | B30: Aciers longitutdinaux HA8 | D30: kg | E30: ='Avant métré'!M24 -> 277.07581 | F30: 1300 | G30: =E30*F30 -> 360198.56
A31: 2.12 | B31: Cadres HA6 | D31: kg | E31: ='Avant métré'!M25 -> 132.50706 | F31: 1300 | G31: =E31*F31 -> 172259.17
... A33: 2.14 | B33: Béton pour dallage d'épaisseur 8cm dosé à 300kg/m3 | D33: m3 | E33: ='Avant métré'!M27 -> 23.2368 | F33: 115000 | G33: =E33*F33 -> 2672232
A34: Sous total 2 | G34: =SUM(G20:G33) -> 7909456.4
A35: ③ | B35: ELEVATION
A36: 3.1 | B36: RDC
A37: 3.1.1 | B37: Béton pour poteaux dosé à 350kg/m3 | D37: m3 | E37: ='Avant métré'!M30 -> 5.04 | F37: 150000 | G37: =E37*F37 -> 756000
A38: 3.1.2 | B38: Aciers longitutdinaux HA10 | D38: kg | E38: ='Avant métré'!M31 -> 77.679 | F38: 1300 | G38: =E38*F38 -> 100982.7
A39: 3.1.3 | B39: Cadres HA6 | D39: kg | E39: ='Avant métré'!M32 -> 95.079096 | F39: 1300 | G39: =E39*F39 -> 123602.82
A40: 3.1.4 | B40: Coffrage en bois en fond de 20cm | D40: m2 | E40: ='Avant métré'!M33 -> 100.8 | F40: 5000 | G40: =E40*F40 -> 504000
A41: 3.1.5 | B41: Maçonnerie en agglos de 15cm | D41: m2 | E41: ='Avant métré'!M34 -> 491.568 | F41: 11000 | G41: =E41*F41 -> 5407248
A42: 3.1.6 | B42: Béton pour lintaux dosé à 350kg/m3 | D42: m3 | E42: ='Avant métré'!M35 -> 7.0224 | F42: 150000 | G42: =E42*F42 -> 1053360
A43: 3.1.7 | B43: Aciers longitutdinaux HA8 | D43: kg | E43: ='Avant métré'!M36 -> 277.07581 | F43: 1300 | G43: =E43*F43 -> 360198.56
A44: 3.1.8 | B44: Cadres HA6 | D44: kg | E44: ='Avant métré'!M37 -> 132.50706 | F44: 1300 | G44: =E44*F44 -> 172259.17
A45: 3.1.9 | B45: Coffrage en bois en fond de 20cm | D45: m2 | E45: ='Avant métré'!M38 -> 70.224 | F45: 5000 | G45: =E45*F45 -> 351120
...

Sheet Feuil1
C1: Dévis Orga chantier
C3: N° Ordre | D3: Désignation | G3: U | H3: Quantité | I3: P.U HT | J3: Montant HT
C4: LOT 1 | D4: TRAVAUX PREPARATOIRES
D5: Installation et replis de chantier | G5: fft | H5: Ens | I5: 400000 | J5: 400000
D6: Evacuation des gravat à la decharge publique | G6: fft | H6: Ens
D7: Implantation | G7: fft | H7: Ens | I7: 100000 | J7: 100000
C8: Sous Total LOT1 | J8: =SUM(J5:J7) -> 500000
C9: LOT 2 | D9: TERRASSEMENT
D10: Décapage des terres végétales d'épaisseur 10cm | G10: m3 | H10: =(15.45+1*2)*(18.8+1*2)*0.1 -> 36.296 | I10: 8500 | J10: =H10*I10 -> 308516
D11: Fouilles en rigole 45x50cm2 | G11: m3 | H11: =0.45*0.5*175.56 -> 39.501 | I11: 14700 | J11: =H11*I11 -> 580664.7 | K11: linéaire= | L11: =68.5+11.47+19.3+6.5+9.65+4.14+14.37+9.5+14.38+4.8*2+6.8+0.45*3 -> 175.56
D12: Remblai des terres provenant des fouilles | G12: m3 | H12: =H11*1.5 -> 59.2515 | I12: 6500 | J12: =H12*I12 -> 385134.75
D13: Lit de sable de 5cm pour l'assise du film polyane | G13: m² | H13: =15.45*18.8 -> 290.46 | I13: 6500 | J13: =H13*I13 -> 1887990
D14: Fourniture et pose du film polyane 180 microns | G14: m² | H14: =15.45*18.8 -> 290.46 | I14: 300 | J14: =H14*I14 -> 87138
D15: Remblai d'apport compacté soigneusement chaque 20cm | G15: m3 | H15: =H14*0.5-H11 -> 105.729 | I15: 6500 | J15: =H15*I15 -> 687238.5
C16: Sous Total LOT2 | J16: =SUM(J10:J15) -> 3936682
C17: LOT 3 | D17: FONDATION
D18: Béton de propreté sous semelles filantes dosé à 150Kg/m3 | G18: m3 | H18: =0.05*0.45*175.56 -> 3.9501 | I18: 90000 | J18: =H18*I18 -> 355509
D19: Béton pour semelles filantes dosé à 350Kg/m3 | G19: m3 | H19: =0.1*0.45*175.56 -> 7.9002 | I19: 150000 | J19: =H19*I19 -> 1185030
D20: Aciers longitudinaux HA8 pour semelles filantes | G20: kg | H20: =0.394*175.56*3 -> 207.51192 | I20: 1300 | J20: =H20*I20 -> 269765.5
D21: Epingles HA10 pour semelles filantes | G21: kg | H21: =0.55*878*0.616 -> 297.4664 | I21: 1300 | J21: =H21*I21 -> 386706.32 | K21: Nbre = | L21: =L11/0.2 -> 877.8
D22: Béton pour poteaux dosé à 350Kg/m3 | G22: m3 | H22: =0.2*0.2*0.35*45 -> 0.63 | I22: 150000 | J22: =H22*I22 -> 94500 | K22: Nbre = | L22: 45
D23: Aciers HA10 pour semelles filantes | G23: kg | H23: =1.6*4*45*0.615 -> 177.12 | I23: 1300 | J23: =H23*I23 -> 230256
D24: Cadres HA6 | G24: kg | H24: =(0.14*4+0.1*2)*3*45*0.222 -> 22.7772 | I24: 1300 | J24: =H24*I24 -> 29610.36
D25: Coffrage en bois fond de 20 | G25: m² | H25: =0.2*0.5*4*45 -> 18 | I25: 5000 | J25: =H25*I25 -> 90000
D26: Béton pour chainage bas dosé à 350Kg/m3 | G26: m3 | H26: =0.2*0.2*175.56 -> 7.0224 | I26: 150000 | J26: =H26*I26 -> 1053360
D27: Aciers HA8 pour le chainage | G27: kg | H27: =0.394*175.56 -> 69.17064 | I27: 1300 | J27: =H27*I27 -> 89921.832
D28: Cadres HA6 | G28: kg | H28: =0.222*878*(0.14*4+0.1*2) -> 148.13616 | I28: 1300 | J28: =H28*I28 -> 192577.01
D29: Coffrage en bois fond de 20 | G29: m² | H29: =0.2*175.56*2 -> 70.224 | I29: 5000 | J29: =H29*I29 -> 351120
D30: Béton pour dallage dosé à 300Kg/m3 ep= 8cm | G30: m3 | H30: =H13*0.08 -> 23.2368 | I30: 115000 | J30: =H30*I30 -> 2672232
D31: Maçonnerie en agglos 20 cm | G31: m² | H31: =0.35*175.56 -> 61.446 | I31: 11000 | J31: =H31*I31 -> 675906
C32: Sous Total LOT3 | J32: =SUM(J18:J31) -> 7676494
C33: LOT 4 | D33: RDC
D34: Béton pour poteaux dosé à 350Kg/m3 | G34: m3 | H34: =0.2*0.2*2.8*45 -> 5.04 | I34: 150000 | J34: =H34*I34 -> 756000
D35: Aciers HA10 pour poteaux | G35: kg | H35: =(2.8+0.6)*4*0.616*45 -> 376.992 | I35: 1300 | J35: =H35*I35 -> 490089.6
D36: Cadres HA6 | G36: kg | H36: =(0.14*4+0.1*2)*14*0.222*45 -> 106.2936 | I36: 1300 | J36: =H36*I36 -> 138181.68 | K36: Nbre = | L36: =280/20 -> 14
D37: Coffrage en bois fond de 20 | G37: m² | H37: =2.8*0.2*4*45 -> 100.8 | I37: 5000 | J37: =H37*I37 -> 504000
D38: Béton dosé à 350Kg/m3 pour linteaux | G38: m3 | H38: =0.15*0.15*175.56 -> 3.9501 | I38: 150000 | J38: =H38*I38 -> 592515
D39: Aciers HA8 pour linteaux | G39: kg | H39: =0.397*175.56*4 -> 278.78928 | I39: 1300 | J39: =H39*I39 -> 362426.06
D40: Aciers HA6 pour les cadres linteaux | G40: kg | H40: =0.222*(0.1*4+0.12)*878 -> 101.35632 | I40: 1300 | J40: =H40*I40 -> 131763.22
D41: Coffrage pour lintaux | G41: m² | H41: =2*0.2*175.56 -> 70.224 | I41: 5000 | J41: =H41*I41 -> 351120
...
