Workbook

Sheet Avant métré
A4: N° | B4: Désignation | D4: Nombre | E4: Dimensions | H4: Acier | K4: U | L4: Quantité
E5: L | F5: l | G5: h | H5: Ф (mm) | I5: masse (kg/m) | J5: St (m) | L5: Partielle | M5: Totale
A6: ① | B6: TERRASSEMENT
A7: 1.1 | B7: Décapage des terres végétales d'épaisseur 10cm | E7: =18.8+1*2 -> 20.8 | F7: =15.45+1*2 -> 17.45 | G7: 0.1 | K7: m3 | L7: =E7*F7*G7 -> 36.296 | M7: =L7 -> 36.296
A8: 1.2 | B8: Fouilles en rigole 45x50cm2 | E8: 175.56 | F8: =0.45 -> 0.45 | G8: 0.5 | K8: m3 | L8: =E8*F8*G8 -> 39.501 | M8: =L8 -> 39.501
A9: 1.3 | B9: Remblai des terres provenant des fouilles | E9: 175.56 | F9: =0.45 -> 0.45 | G9: 0.5 | K9: m3 | L9: =(E9*F9*G9)*1.5 -> 59.2515 | M9: =L9 -> 59.2515
A10: 1.4 | B10: Lit de sable de 5cm pour l'assise du film polyane | E10: 18.8 | F10: 15.45 | K10: m2 | L10: =E10*F10 -> 290.46 | M10: =L10 -> 290.46
A11: 1.5 | B11: Fourniture et pose du film polyane 180 microns | E11: 18.8 | F11: 15.45 | K11: m2 | L11: =E11*F11 -> 290.46 | M11: =L11 -> 290.46
A12: 1.6 | B12: Remblai d'apport compacté soigneusement chaque 20cm | E12: 18.8 | F12: 15.45 | K12: m2 | L12: =0.5*(E12*F12)-L8 -> 105.729 | M12: =L12 -> 105.729
A13: ② | B13: FONDATION
A14: 2.1 | B14: Béton de propreté sous semmelles dosé à 150kg/m3 | E14: 175.56 | F14: 0.45 | G14: 0.05 | K14: m3 | L14: =E14*F14*G14 -> 3.9501 | M14: =L14 -> 3.9501
A15: 2.2 | B15: Béton pour semelles filantes en BA dosé à 350kg/m3 | E15: 175.56 | F15: 0.45 | G15: 0.1 | K15: m3 | L15: =E15*F15*G15 -> 7.9002 | M15: =L15 -> 7.9002
A16: 2.3 | B16: Aciers longitudinaux HA8 pour semelles filantes | D16: 3 | E16: 175.56 | H16: 8 | I16: =(6.165*10^-3)*H16^2 -> 0.39456 | K16: kg | L16: =E16*I16 -> 69.268954 | M16: =D16*L16 -> 207.80686
A17: 2.4 | B17: Epingles HA10 pour semelles filantes | D17: =ROUND(E16/J17,0) -> 878 | E17: =(0.45-0.06)+(10*H17*10^-3)*2 -> 0.59 | H17: 10 | I17: =(6.165*10^-3)*H17^2 -> 0.6165 | J17: 0.2 | K17: kg | L17: =E17*I17 -> 0.363735 | M17: =D17*L17 -> 319.35933
A18: 2.5 | B18: Béton pour poteaux en BA dosé à 350kg/m3 | D18: 45 | E18: =0.5-(0.05+0.1) -> 0.35 | F18: 0.2 | G18: 0.2 | K18: m3 | L18: =E18*F18*G18 -> 0.014 | M18: =D18*L18 -> 0.63
A19: 2.6 | B19: Aciers longitutdinaux HA10 | D19: 4 | E19: =20*H19*10^-3+0.5+60*H19*10^-3 -> 1.3 | H19: 10 | I19: =(6.165*10^-3)*H19^2 -> 0.6165 | K19: kg | L19: =E19*I19*D18 -> 36.06525 | M19: =D19*L19 -> 144.261
A20: 2.7 | B20: Cadres HA6 | D20: =ROUND(0.5/J20,0) -> 3 | E20: =(0.14*4+2*10*H20*10^-3) -> 0.68 | H20: 6 | I20: =(6.165*10^-3)*H20^2 -> 0.22194 | J20: 0.2 | K20: kg | L20: =E20*I20*D18 -> 6.791364 | M20: =D20*L20 -> 20.374092
A21: 2.8 | B21: Coffrage en bois en fond de 20cm | D21: 4 | F21: 0.2 | G21: 0.5 | K21: m2 | L21: =F21*G21*D18 -> 4.5 | M21: =D21*L21 -> 18
A22: 2.9 | B22: Maçonnerie en agglos de 20cm | E22: 175.56 | G22: =E18 -> 0.35 | K22: m2 | L22: =E22*G22 -> 61.446 | M22: =L22 -> 61.446
A23: 2.10 | B23: Béton pour chainage bas dosé à 350kg/m3 | E23: 175.56 | F23: 0.2 | G23: 0.2 | K23: m3 | L23: =E23*F23*G23 -> 7.0224 | M23: =L23 -> 7.0224
A24: 2.11 | B24: Aciers longitutdinaux HA8 | D24: 4 | E24: 175.56 | H24: 8 | I24: =(6.165*10^-3)*H24^2 -> 0.39456 | K24: kg | L24: =E24*I24 -> 69.268954 | M24: =D24*L24 -> 277.07581
A25: 2.12 | B25: Cadres HA6 | D25: =ROUND(E24/J25,0) -> 878 | E25: =(0.14*4+2*10*H25*10^-3) -> 0.68 | H25: 6 | I25: =(6.165*10^-3)*H25^2 -> 0.22194 | J25: 0.2 | K25: kg | L25: =E25*I25 -> 0.1509192 | M25: =D25*L25 -> 132.50706
A26: 2.13 | B26: Coffrage en bois en fond de 20cm | D26: 2 | E26: 175.56 | F26: 0.2 | K26: m2 | L26: =E26*F26 -> 35.112 | M26: =D26*L26 -> 70.224
A27: 2.14 | B27: Béton pour dallage d'épaisseur 8cm dosé à 300kg/m3 | E27: 18.8 | F27: 15.45 | G27: 0.08 | K27: m3 | L27: =E27*F27*G27 -> 23.2368 | M27: =L27 -> 23.2368
A28: ③ | B28: ELEVATION
A29: 3.1 | B29: RDC
A30: 3.1.1 | B30: Béton pour poteaux dosé à 350kg/m3 | D30: 45 | E30: 2.8 | F30: 0.2 | G30: 0.2 | K30: m3 | L30: =E30*F30*G30 -> 0.112 | M30: =D30*L30 -> 5.04
A31: 3.1.2 | B31: Aciers longitutdinaux HA10 | D31: 45 | E31: 2.8 | H31: 10 | I31: =(6.165*10^-3)*H31^2 -> 0.6165 | K31: kg | L31: =E31*I31 -> 1.7262 | M31: =D31*L31 -> 77.679
A32: 3.1.3 | B32: Cadres HA6 | D32: =ROUND(E31/J32,0) -> 14 | E32: =E20 -> 0.68 | H32: 6 | I32: =(6.165*10^-3)*H32^2 -> 0.22194 | J32: 0.2 | K32: kg | L32: =E32*I32*D31 -> 6.791364 | M32: =D32*L32 -> 95.079096
A33: 3.1.4 | B33: Coffrage en bois en fond de 20cm | D33: 4 | F33: 0.2 | G33: 2.8 | K33: m2 | L33: =F33*G33*D31 -> 25.2 | M33: =D33*L33 -> 100.8
A34: 3.1.5 | B34: Maçonnerie en agglos de 15cm | E34: 175.56 | G34: 2.8 | K34: m2 | L34: =E34*G34 -> 491.568 | M34: =L34 -> 491.568
A35: 3.1.6 | B35: Béton pour lintaux dosé à 350kg/m3 | E35: 175.56 | F35: 0.2 | G35: 0.2 | K35: m3 | L35: =E35*F35*G35 -> 7.0224 | M35: =L35 -> 7.0224
A36: 3.1.7 | B36: Aciers longitutdinaux HA8 | D36: 4 | E36: 175.56 | H36: 8 | I36: =(6.165*10^-3)*H36^2 -> 0.39456 | K36: kg | L36: =E36*I36 -> 69.268954 | M36: =D36*L36 -> 277.07581
A37: 3.1.8 | B37: Cadres HA6 | D37: =ROUND(E36/J37,0) -> 878 | E37: =E32 -> 0.68 | H37: 6 | I37: =(6.165*10^-3)*H37^2 -> 0.22194 | J37: 0.2 | K37: kg | L37: =E37*I37 -> 0.1509192 | M37: =D37*L37 -> 132.50706
A38: 3.1.9 | B38: Coffrage en bois en fond de 20cm | D38: 2 | E38: 175.56 | F38: 0.2 | K38: m2 | L38: =E38*F38 -> 35.112 | M38: =D38*L38 -> 70.224
A39: 3.1.10 | B39: Béton pour chainage haut dosé à 350kg/m3 | E39: 175.56 | F39: 0.2 | G39: 0.2 | K39: m3 | L39: =E39*F39*G39 -> 7.0224 | M39: =L39 -> 7.0224
A40: 3.1.11 | B40: Aciers longitutdinaux HA8 | D40: 4 | E40: 175.56 | H40: 8 | I40: =(6.165*10^-3)*H40^2 -> 0.39456 | K40: kg | L40: =E40*I40 -> 69.268954 | M40: =D40*L40 -> 277.07581
A41: 3.1.12 | B41: Cadres HA6 | D41: =ROUND(E40/J41,0) -> 878 | E41: =E37 -> 0.68 | H41: 6 | I41: =(6.165*10^-3)*H41^2 -> 0.22194 | J41: 0.2 | K41: kg | L41: =E41*I41 -> 0.1509192 | M41: =D41*L41 -> 132.50706
A42: 3.1.13 | B42: Coffrage en bois en fond de 20cm | D42: 2 | E42: 175.56 | F42: 0.2 | I42: =(6.165*10^-3)*H42^2 -> 0 | K42: m2 | L42: =E42*F42 -> 35.112 | M42: =D42*L42 -> 70.224
A43: 3.1.14 | B43: Béton pour plancher haut (dalle en BA) d'épaisseur 15cm dosé à 350kg/m3 | E43: 18.8 | F43: 15.45 | G43: 0.15 | I43: =(6.165*10^-3)*H43^2 -> 0 | K43: m3 | L43: =E43*F43*G43 -> 43.569 | M43: =L43 -> 43.569
A44: 3.1.15 | B44: Aciers HA10 | H44: 10 | I44: =(6.165*10^-3)*H44^2 -> 0.6165 | K44: kg | L44: =60*L43 -> 2614.14 | M44: =L44 -> 2614.14
A45: 3.1.16 | B45: Etaiement pour la dalle | E45: 18.8 | F45: 15.45 | L45: =ROUND((E45/0.8)*(F45/0.8),0) -> 454 | M45: =L45 -> 454
A46: 3.1.17 | B46: Béton pour escalier en BA dosé à 350kg/m3 | I46: =(6.165*10^-3)*H46^2 -> 0 | K46: m3 | L46: =0.9+0.98+0.96+0.2 -> 3.04 | M46: =L46 -> 3.04
A47: 3.1.18 | B47: Aciers longitutdinaux HA10 | D47: 16 | E47: 4.54 | H47: 10 | I47: =(6.165*10^-3)*H47^2 -> 0.6165 | K47: kg | L47: =E47*I47 -> 2.79891 | M47: =D47*L47 -> 44.78256
A48: 3.1.19 | B48: Aciers de répartition HA8 | D48: 19 | E48: 1.45 | H48: 8 | I48: =(6.165*10^-3)*H48^2 -> 0.39456 | K48: kg | L48: =E48*I48 -> 0.572112 | M48: =D48*L48 -> 10.870128
A49: 3.2 | B49: ETAGE
A50: 3.2.1 | B50: Béton pour poteaux dosé à 350kg/m3 | D50: 45 | E50: 2.8 | F50: 0.2 | G50: 0.2 | K50: m3 | L50: =E50*F50*G50 -> 0.112 | M50: =D50*L50 -> 5.04
A51: 3.2.2 | B51: Aciers longitutdinaux HA10 | D51: 45 | E51: 2.8 | H51: 10 | I51: =(6.165*10^-3)*H51^2 -> 0.6165 | K51: kg | L51: =E51*I51 -> 1.7262 | M51: =D51*L51 -> 77.679
A52: 3.2.3 | B52: Cadres HA6 | D52: =ROUND(E51/J52,0) -> 14 | E52: =E40 -> 175.56 | H52: 6 | I52: =(6.165*10^-3)*H52^2 -> 0.22194 | J52: 0.2 | K52: kg | L52: =E52*I52*D51 -> 1753.3704 | M52: =D52*L52 -> 24547.185
A53: 3.2.4 | B53: Coffrage en bois en fond de 20cm | D53: 4 | F53: 0.2 | G53: 2.8 | K53: m2 | L53: =F53*G53*D51 -> 25.2 | M53: =D53*L53 -> 100.8
A54: 3.2.5 | B54: Maçonnerie en agglos de 15cm | E54: 175.56 | G54: 2.8 | K54: m2 | L54: =E54*G54 -> 491.568 | M54: =L54 -> 491.568
A55: 3.2.6 | B55: Béton pour lintaux dosé à 350kg/m3 | E55: 175.56 | F55: 0.2 | G55: 0.2 | K55: m3 | L55: =E55*F55*G55 -> 7.0224 | M55: =L55 -> 7.0224
A56: 3.2.7 | B56: Aciers longitutdinaux HA8 | D56: 4 | E56: 175.56 | H56: 8 | I56: =(6.165*10^-3)*H56^2 -> 0.39456 | K56: kg | L56: =E56*I56 -> 69.268954 | M56: =D56*L56 -> 277.07581
A57: 3.2.8 | B57: Cadres HA6 | D57: =ROUND(E56/J57,0) -> 878 | E57: =E52 -> 175.56 | H57: 6 | I57: =(6.165*10^-3)*H57^2 -> 0.22194 | J57: 0.2 | K57: kg | L57: =E57*I57 -> 38.963786 | M57: =D57*L57 -> 34210.204
A58: 3.2.9 | B58: Coffrage en bois en fond de 20cm | D58: 2 | E58: 175.56 | F58: 0.2 | K58: m2 | L58: =E58*F58 -> 35.112 | M58: =D58*L58 -> 70.224
A59: 3.2.10 | B59: Béton pour chainage haut dosé à 350kg/m3 | E59: 175.56 | F59: 0.2 | G59: 0.2 | K59: m3 | L59: =E59*F59*G59 -> 7.0224 | M59: =L59 -> 7.0224
A60: 3.2.11 | B60: Aciers longitutdinaux HA8 | D60: 4 | E60: 175.56 | H60: 8 | I60: =(6.165*10^-3)*H60^2 -> 0.39456 | K60: kg | L60: =E60*I60 -> 69.268954 | M60: =D60*L60 -> 277.07581
A61: 3.2.12 | B61: Cadres HA6 | D61: =ROUND(E60/J61,0) -> 878 | E61: =E57 -> 175.56 | H61: 6 | I61: =(6.165*10^-3)*H61^2 -> 0.22194 | J61: 0.2 | K61: kg | L61: =E61*I61 -> 38.963786 | M61: =D61*L61 -> 34210.204
A62: 3.2.13 | B62: Coffrage en bois en fond de 20cm | D62: 2 | E62: 175.56 | F62: 0.2 | I62: =(6.165*10^-3)*H62^2 -> 0 | K62: m2 | L62: =E62*F62 -> 35.112 | M62: =D62*L62 -> 70.224
A63: ④ | B63: CHARPENTE EN BOIS - COUVERTURE
A64: 4.1 | B64: Ferme en bois en fond de 15 et Chevrons 8x8cm2 | K64: m3 | L64: =0.15*0.03*741+0.08*0.08*163 -> 4.3777 | M64: =L64 -> 4.3777
A65: 4.2 | B65: Toles bac en alu 5/10ième | K65: m2 | L65: 286 | M65: =L65 -> 286
A66: ⑤ | B66: MENUISERIE EN ALUMINIUM
A67: 5.1 | B67: RDC
A68: 5.1.1 | B68: Fenetre à deux battants 120x110 | K68: u | L68: 10 | M68: =L68 -> 10
A69: 5.1.2 | B69: Fenetre à deux battants 60x60 | K69: u | L69: 5 | M69: =L69 -> 5
A70: 5.2 | B70: ETAGE
A71: 5.2.1 | B71: Fenetre à deux battants 120x110 | K71: u | L71: 10 | M71: =L71 -> 10
A72: 5.2.2 | B72: Fenetre à deux battants 60x60 | K72: u | L72: 5 | M72: =L72 -> 5
A73: ⑥ | B73: MENUISERIE EN BOIS
A74: 6.1 | B74: RDC
A75: 6.1.1 | B75: Fourniture et pose de bloc porte pleine en bois 1,5x210 | K75: u | L75: 2 | M75: =L75 -> 2
A76: 6.1.2 | B76: Fourniture et pose de bloc porte pleine en bois 90x210 | K76: u | L76: 6 | M76: =L76 -> 6
A77: 6.1.3 | B77: Fourniture et pose de bloc porte pleine en bois 80x210 | K77: u | L77: 5 | M77: =L77 -> 5
A78: 6.2 | B78: ETAGE
A79: 6.2.1 | B79: Fourniture et pose de bloc porte pleine en bois 1,5x210 | K79: u | L79: 2 | M79: =L79 -> 2
A80: 6.2.2 | B80: Fourniture et pose de bloc porte pleine en bois 90x210 | K80: u | L80: 6 | M80: =L80 -> 6
A81: 6.2.3 | B81: Fourniture et pose de bloc porte pleine en bois 80x210 | K81: u | L81: 5 | M81: =L81 -> 5
A82: ⑦ | B82: REVETEMENT MURS
B83: RDC & ETAGE
A84: 7.1 | B84: Enduit au mortier de 1,5 mm d'épaisseur dosé à 350kg/m3 | D84: 2 | E84: 175.56 | F84: 2.8 | G84: 0.0015 | K84: m3 | L84: =E84*F84*G84 -> 0.737352 | M84: =D84*L84 -> 1.474704
A85: 7.2 | B85: Faience pour salle d'eau sur 1,7m (SBD, cuisine et toilette) | D85: 2 | K85: m2 | L85: 74 | M85: =D85*L85 -> 148
A86: ⑧ | B86: REVETEMENT SOL
B87: RDC & ETAGE
A88: 8.1 | B88: Chape | D88: 2 | E88: 18.8 | F88: 15.45 | K88: m2 | L88: =E88*F88 -> 290.46 | M88: =D88*L88 -> 580.92
A89: 8.2 | B89: Carreleage en gré de céramique 15x15 | D89: 2 | E89: 18.8 | F89: 15.45 | K89: m2 | L89: =E89*F89 -> 290.46 | M89: =D89*L89 -> 580.92
A90: 8.3 | B90: Plinthe | D90: 2 | E90: 175.56 | G90: 0.1 | K90: m2 | L90: =E90*G90 -> 17.556 | M90: =D90*L90 -> 35.112
A91: ⑨ | B91: FAUX PLAFOND
B92: RDC & ETAGE
A93: 9.1 | B93: Contre plaqué de 4mm | D93: 2 | K93: u | L93: 79 | M93: =D93*L93 -> 158
A94: 9.2 | B94: Latte 5x8cm2 | D94: 2 | K94: m2 | L94: =0.05*0.08*991 -> 3.964 | M94: =D94*L94 -> 7.928
A95: ⑩ | B95: PEINTURE
B96: RDC & ETAGE
A97: 10.1 | B97: Peinture intérieure | D97: 2 | E97: 175.56 | G97: 2.8 | K97: m2 | L97: =E97*G97 -> 491.568 | M97: =D97*L97 -> 983.136
A98: 10.2 | B98: Peinture sur ménuiserie | D98: 2 | K98: m2 | L98: 65 | M98: =D98*L98 -> 130
A99: 10.3 | B99: Peinture exterieure | D99: 2 | E99: 175.56 | G99: 2.8 | K99: m2 | L99: =E99*G99 -> 491.568 | M99: =D99*L99 -> 983.136
A100: 10.4 | B100: Peinture sur faux plafond | D100: 2 | E100: 18.8 | F100: 15.45 | K100: m2 | L100: =E100*F100 -> 290.46 | M100: =D100*L100 -> 580.92
A101: ⑪ | B101: CLIMATISATION
B102: RDC & ETAGE
A103: 11.1 | B103: Fourniture et pose climatiseurs 12000BTU | D103: 2 | K103: u | L103: 2 | M103: =D103*L103 -> 4
...

Sheet DQE
A4: N° | B4: Désignation | D4: U | E4: Quantité | F4: P.U | G4: P.T
A6: ⓪ | B6: TRVAUX PREPARATOIRES
B7: Installation et replis de chantier | D7: fft | E7: Ens | F7: 400000 | G7: =SUM(F7) -> 400000
B8: Evacuation des gravat à la decharge publique | D8: fft | E8: Ens | F8: 100000 | G8: =SUM(F8) -> 100000
B9: Implantation | D9: fft | E9: Ens | F9: 100000 | G9: =SUM(F9) -> 100000
A10: Sous total 0 | G10: =SUM(G7:G9) -> 600000
A11: ① | B11: TERRASSEMENT
A12: 1.1 | B12: Décapage des terres végétales d'épaisseur 10cm | D12: m3 | E12: ='Avant métré'!M7 -> 36.296 | F12: 8500 | G12: =E12*F12 -> 308516
A13: 1.2 | B13: Fouilles en rigole 45x50cm2 | D13: m3 | E13: ='Avant métré'!M8 -> 39.501 | F13: 14700 | G13: =E13*F13 -> 580664.7
A14: 1.3 | B14: Remblai des terres provenant des fouilles | D14: m3 | E14: ='Avant métré'!M9 -> 59.2515 | F14: 6500 | G14: =E14*F14 -> 385134.75 | I14: =0.5*0.45 -> 0.225 | K14: =E13/I14 -> 175.56
A15: 1.4 | B15: Lit de sable de 5cm pour l'assise du film polyane | D15: m2 | E15: ='Avant métré'!M10 -> 290.46 | F15: 6500 | G15: =E15*F15 -> 1887990
A16: 1.5 | B16: Fourniture et pose du film polyane 180 microns | D16: m2 | E16: ='Avant métré'!M11 -> 290.46 | F16: 300 | G16: =E16*F16 -> 87138
A17: 1.6 | B17: Remblai d'apport compacté soigneusement chaque 20cm | D17: m2 | E17: ='Avant métré'!M12 -> 105.729 | F17: 6500 | G17: =E17*F17 -> 687238.5
A18: Sous total 1 | G18: =SUM(G12:G17) -> 3936682
A19: ② | B19: FONDATION
A20: 2.1 | B20: Béton de propreté sous semmelles dosé à 150kg/m3 | D20: m3 | E20: ='Avant métré'!M14 -> 3.9501 | F20: 90000 | G20: =E20*F20 -> 355509
A21: 2.2 | B21: Béton pour semelles filantes en BA dosé à 350kg/m3 | D21: m3 | E21: ='Avant métré'!M15 -> 7.9002 | F21: 150000 | G21: =E21*F21 -> 1185030
A22: 2.3 | B22: Aciers longitudinaux HA8 pour semelles filantes | D22: kg | E22: ='Avant métré'!M16 -> 207.80686 | F22: 1300 | G22: =E22*F22 -> 270148.92
A23: 2.4 | B23: Epingles HA10 pour semelles filantes | D23: kg | E23: ='Avant métré'!M17 -> 319.35933 | F23: 1300 | G23: =E23*F23 -> 415167.13
A24: 2.5 | B24: Béton pour poteaux en BA dosé à 350kg/m3 | D24: m3 | E24: ='Avant métré'!M18 -> 0.63 | F24: 150000 | G24: =E24*F24 -> 94500
A25: 2.6 | B25: Aciers longitutdinaux HA10 | D25: kg | E25: ='Avant métré'!M19 -> 144.261 | F25: 1300 | G25: =E25*F25 -> 187539.3
A26: 2.7 | B26: Cadres HA6 | D26: kg | E26: ='Avant métré'!M20 -> 20.374092 | F26: 1300 | G26: =E26*F26 -> 26486.32
A27: 2.8 | B27: Coffrage en bois en fond de 20cm | D27: m2 | E27: ='Avant métré'!M21 -> 18 | F27: 5000 | G27: =E27*F27 -> 90000
A28: 2.9 | B28: Maçonnerie en agglos de 20cm | D28: m2 | E28: ='Avant métré'!M22 -> 61.446 | F28: 11000 | G28: =E28*F28 -> 675906
A29: 2.10 | B29: Béton pour chainage bas dosé à 350kg/m3 | D29: m3 | E29: ='Avant métré'!M23 -> 7.0224 | F29: 150000 | G29: =E29*F29 -> 1053360
A30: 2.11 | B30: Aciers longitutdinaux HA8 | D30: kg | E30: ='Avant métré'!M24 -> 277.07581 | F30: 1300 | G30: =E30*F30 -> 360198.56
A31: 2.12 | B31: Cadres HA6 | D31: kg | E31: ='Avant métré'!M25 -> 132.50706 | F31: 1300 | G31: =E31*F31 -> 172259.17
... A33: 2.14 | B33: Béton pour dallage d'épaisseur 8cm dosé à 300kg/m3 | D33: m3 | E33: ='Avant métré'!M27 -> 23.2368 | F33: 115000 | G33: =E33*F33 -> 2672232
A34: Sous total 2 | G34: =SUM(G20:G33) -> 7909456.4
A35: ③ | B35: ELEVATION
A36: 3.1 | B36: RDC
A37: 3.1.1 | B37: Béton pour poteaux dosé à 350kg/m3 | D37: m3 | E37: ='Avant métré'!M30 -> 5.04 | F37: 150000 | G37: =E37*F37 -> 756000
A38: 3.1.2 | B38: Aciers longitutdinaux HA10 | D38: kg | E38: ='Avant métré'!M31 -> 77.679 | F38: 1300 | G38: =E38*F38 -> 100982.7
A39: 3.1.3 | B39: Cadres HA6 | D39: kg | E39: ='Avant métré'!M32 -> 95.079096 | F39: 1300 | G39: =E39*F39 -> 123602.82
A40: 3.1.4 | B40: Coffrage en bois en fond de 20cm | D40: m2 | E40: ='Avant métré'!M33 -> 100.8 | F40: 5000 | G40: =E40*F40 -> 504000
A41: 3.1.5 | B41: Maçonnerie en agglos de 15cm | D41: m2 | E41: ='Avant métré'!M34 -> 491.568 | F41: 11000 | G41: =E41*F41 -> 5407248
A42: 3.1.6 | B42: Béton pour lintaux dosé à 350kg/m3 | D42: m3 | E42: ='Avant métré'!M35 -> 7.0224 | F42: 150000 | G42: =E42*F42 -> 1053360
A43: 3.1.7 | B43: Aciers longitutdinaux HA8 | D43: kg | E43: ='Avant métré'!M36 -> 277.07581 | F43: 1300 | G43: =E43*F43 -> 360198.56
A44: 3.1.8 | B44: Cadres HA6 | D44: kg | E44: ='Avant métré'!M37 -> 132.50706 | F44: 1300 | G44: =E44*F44 -> 172259.17
A45: 3.1.9 | B45: Coffrage en bois en fond de 20cm | D45: m2 | E45: ='Avant métré'!M38 -> 70.224 | F45: 5000 | G45: =E45*F45 -> 351120
A46: 3.1.10 | B46: Béton pour chainage haut dosé à 350kg/m3 | D46: m3 | E46: ='Avant métré'!M39 -> 7.0224 | F46: 150000 | G46: =E46*F46 -> 1053360
A47: 3.1.11 | B47: Aciers longitutdinaux HA8 | D47: kg | E47: ='Avant métré'!M40 -> 277.07581 | F47: 1300 | G47: =E47*F47 -> 360198.56
A48: 3.1.12 | B48: Cadres HA6 | D48: kg | E48: ='Avant métré'!M41 -> 132.50706 | F48: 1300 | G48: =E48*F48 -> 172259.17
... A51: 3.1.15 | B51: Aciers HA10 | D51: kg | E51: ='Avant métré'!M44 -> 2614.14 | F51: 1300 | G51: =E51*F51 -> 3398382
A52: 3.1.16 | B52: Etaiement pour la dalle | E52: ='Avant métré'!M45 -> 454 | F52: 5000 | G52: =E52*F52 -> 2270000
A53: 3.1.17 | B53: Béton pour escalier en BA dosé à 350kg/m3 | D53: m3 | E53: ='Avant métré'!M46 -> 3.04 | F53: 150000 | G53: =E53*F53 -> 456000
A54: 3.1.18 | B54: Aciers longitutdinaux HA10 | D54: kg | E54: ='Avant métré'!M47 -> 44.78256 | F54: 1300 | G54: =E54*F54 -> 58217.328
A55: 3.1.19 | B55: Aciers de répartition HA8 | D55: kg | E55: ='Avant métré'!M48 -> 10.870128 | F55: 1300 | G55: =E55*F55 -> 14131.166
A56: 3.2 | B56: ETAGE
A57: 3.2.1 | B57: Béton pour poteaux dosé à 350kg/m3 | D57: m3 | E57: ='Avant métré'!M50 -> 5.04 | F57: 150000 | G57: =E57*F57 -> 756000
A58: 3.2.2 | B58: Aciers longitutdinaux HA10 | D58: kg | E58: ='Avant métré'!M51 -> 77.679 | F58: 1300 | G58: =E58*F58 -> 100982.7
A59: 3.2.3 | B59: Cadres HA6 | D59: kg | E59: ='Avant métré'!M52 -> 24547.185 | F59: 1300 | G59: =E59*F59 -> 31911341
A60: 3.2.4 | B60: Coffrage en bois en fond de 20cm | D60: m2 | E60: ='Avant métré'!M53 -> 100.8 | F60: 5000 | G60: =E60*F60 -> 504000
A61: 3.2.5 | B61: Maçonnerie en agglos de 15cm | D61: m2 | E61: ='Avant métré'!M54 -> 491.568 | F61: 11000 | G61: =E61*F61 -> 5407248
A62: 3.2.6 | B62: Béton pour lintaux dosé à 350kg/m3 | D62: m3 | E62: ='Avant métré'!M55 -> 7.0224 | F62: 150000 | G62: =E62*F62 -> 1053360
A63: 3.2.7 | B63: Aciers longitutdinaux HA8 | D63: kg | E63: ='Avant métré'!M56 -> 277.07581 | F63: 1300 | G63: =E63*F63 -> 360198.56
A64: 3.2.8 | B64: Cadres HA6 | D64: kg | E64: ='Avant métré'!M57 -> 34210.204 | F64: 1300 | G64: =E64*F64 -> 44473266
A65: 3.2.9 | B65: Coffrage en bois en fond de 20cm | D65: m2 | E65: ='Avant métré'!M58 -> 70.224 | F65: 5000 | G65: =E65*F65 -> 351120
A66: 3.2.10 | B66: Béton pour chainage haut dosé à 350kg/m3 | D66: m3 | E66: ='Avant métré'!M59 -> 7.0224 | F66: 150000 | G66: =E66*F66 -> 1053360
A67: 3.2.11 | B67: Aciers longitutdinaux HA8 | D67: kg | E67: ='Avant métré'!M60 -> 277.07581 | F67: 1300 | G67: =E67*F67 -> 360198.56
A68: 3.2.12 | B68: Cadres HA6 | D68: kg | E68: ='Avant métré'!M61 -> 34210.204 | F68: 1300 | G68: =E68*F68 -> 44473266
A69: 3.2.13 | B69: Coffrage en bois en fond de 20cm | D69: m2 | E69: ='Avant métré'!M62 -> 70.224 | F69: 5000 | G69: =E69*F69 -> 351120
A70: Sous total 3 | G70: =SUM(G37:G69) -> 1.5465325e+08
A71: ④ | B71: CHARPENTE EN BOIS - COUVERTURE
A72: 4.1 | B72: Ferme en bois en fond de 15 et Chevrons 8x8cm2 | D72: m3 | E72: ='Avant métré'!M64 -> 4.3777 | F72: 300000 | G72: =E72*F72 -> 1313310
A73: 4.2 | B73: Toles bac en alu 5/10ième | D73: m2 | E73: ='Avant métré'!M65 -> 286 | F73: 5000 | G73: =E73*F73 -> 1430000
A74: Sous total 4 | G74: =SUM(G72:G73) -> 2743310
A75: ⑤ | B75: MENUISERIE EN ALUMINIUM
A76: 5.1 | B76: RDC
A77: 5.1.1 | B77: Fenetre à deux battants 120x110 | D77: u | E77: ='Avant métré'!M68 -> 10 | F77: 145000 | G77: =E77*F77 -> 1450000
A78: 5.1.2 | B78: Fenetre à deux battants 60x60 | D78: u | E78: ='Avant métré'!M69 -> 5 | F78: 75000 | G78: =E78*F78 -> 375000
A79: 5.2 | B79: ETAGE
A80: 5.2.1 | B80: Fenetre à deux battants 120x110 | D80: u | E80: ='Avant métré'!M71 -> 10 | F80: 90000 | G80: =E80*F80 -> 900000
A81: 5.2.2 | B81: Fenetre à deux battants 60x60 | D81: u | E81: ='Avant métré'!M72 -> 5 | F81: 145000 | G81: =E81*F81 -> 725000
A82: Sous total 5 | G82: =SUM(G77:G81) -> 3450000
A83: ⑥ | B83: MENUISERIE EN BOIS
A84: 6.1 | B84: RDC
A85: 6.1.1 | B85: Fourniture et pose de bloc porte pleine en bois 1,5x210 | D85: u | E85: ='Avant métré'!M75 -> 2 | F85: 190000 | G85: =E85*F85 -> 380000
A86: 6.1.2 | B86: Fourniture et pose de bloc porte pleine en bois 90x210 | D86: u | E86: ='Avant métré'!M76 -> 6 | F86: 120000 | G86: =E86*F86 -> 720000
A87: 6.1.3 | B87: Fourniture et pose de bloc porte pleine en bois 80x210 | D87: u | E87: ='Avant métré'!M77 -> 5 | F87: 95000 | G87: =E87*F87 -> 475000
A88: 6.2 | B88: ETAGE
A89: 6.2.1 | B89: Fourniture et pose de bloc porte pleine en bois 1,5x210 | D89: u | E89: ='Avant métré'!M79 -> 2 | F89: 190000 | G89: =E89*F89 -> 380000
A90: 6.2.2 | B90: Fourniture et pose de bloc porte pleine en bois 90x210 | D90: u | E90: ='Avant métré'!M80 -> 6 | F90: 120000 | G90: =E90*F90 -> 720000
A91: 6.2.3 | B91: Fourniture et pose de bloc porte pleine en bois 80x210 | D91: u | E91: ='Avant métré'!M81 -> 5 | F91: 95000 | G91: =E91*F91 -> 475000
A92: Sous total 6 | G92: =SUM(G85:G91) -> 3150000
A93: ⑦ | B93: REVETEMENT MURS
B94: RDC & ETAGE
A95: 7.1 | B95: Enduit au mortier de 1,5 mm d'épaisseur dosé à 350kg/m3 | D95: m3 | E95: ='Avant métré'!M84 -> 1.474704 | F95: 4200 | G95: =E95*F95 -> 6193.7568
A96: 7.2 | B96: Faience pour salle d'eau sur 1,7m (SBD, cuisine et toilette) | D96: m2 | E96: ='Avant métré'!M85 -> 148 | F96: 8500 | G96: =E96*F96 -> 1258000
A97: Sous total 7 | G97: =SUM(G95:G96) -> 1264193.8
A98: ⑧ | B98: REVETEMENT SOL
B99: RDC & ETAGE
A100: 8.1 | B100: Chape | D100: m2 | E100: ='Avant métré'!M88 -> 580.92 | F100: 5000 | G100: =E100*F100 -> 2904600
A101: 8.2 | B101: Carreleage en gré de céramique 15x15 | D101: m2 | E101: ='Avant métré'!M89 -> 580.92 | F101: 8500 | G101: =E101*F101 -> 4937820
A102: 8.3 | B102: Plinthe | D102: m2 | E102: ='Avant métré'!M90 -> 35.112 | F102: 3350 | G102: =E102*F102 -> 117625.2
A103: Sous total 8 | G103: =SUM(G100:G102) -> 7960045.2
A104: ⑨ | B104: FAUX PLAFOND
B105: RDC & ETAGE
A106: 9.1 | B106: Contre plaqué de 4mm | D106: u | E106: ='Avant métré'!M93 -> 158 | F106: 11500 | G106: =E106*F106 -> 1817000
A107: 9.2 | B107: Latte 5x8cm2 | D107: m2 | E107: ='Avant métré'!M94 -> 7.928 | F107: 2500 | G107: =E107*F107 -> 19820
...

Sheet Feuil1
C1: Dévis Orga chantier
C3: N° Ordre | D3: Désignation | G3: U | H3: Quantité | I3: P.U HT | J3: Montant HT
C4: LOT 1 | D4: TRAVAUX PREPARATOIRES
D5: Installation et replis de chantier | G5: fft | H5: Ens | I5: 400000 | J5: 400000
D6: Evacuation des gravat à la decharge publique | G6: fft | H6: Ens
D7: Implantation | G7: fft | H7: Ens | I7: 100000 | J7: 100000
C8: Sous Total LOT1 | J8: =SUM(J5:J7) -> 500000
C9: LOT 2 | D9: TERRASSEMENT
D10: Décapage des terres végétales d'épaisseur 10cm | G10: m3 | H10: =(15.45+1*2)*(18.8+1*2)*0.1 -> 36.296 | I10: 8500 | J10: =H10*I10 -> 308516
D11: Fouilles en rigole 45x50cm2 | G11: m3 | H11: =0.45*0.5*175.56 -> 39.501 | I11: 14700 | J11: =H11*I11 -> 580664.7 | K11: linéaire= | L11: =68.5+11.47+19.3+6.5+9.65+4.14+14.37+9.5+14.38+4.8*2+6.8+0.45*3 -> 175.56
D12: Remblai des terres provenant des fouilles | G12: m3 | H12: =H11*1.5 -> 59.2515 | I12: 6500 | J12: =H12*I12 -> 385134.75
D13: Lit de sable de 5cm pour l'assise du film polyane | G13: m² | H13: =15.45*18.8 -> 290.46 | I13: 6500 | J13: =H13*I13 -> 1887990
D14: Fourniture et pose du film polyane 180 microns | G14: m² | H14: =15.45*18.8 -> 290.46 | I14: 300 | J14: =H14*I14 -> 87138
D15: Remblai d'apport compacté soigneusement chaque 20cm | G15: m3 | H15: =H14*0.5-H11 -> 105.729 | I15: 6500 | J15: =H15*I15 -> 687238.5
C16: Sous Total LOT2 | J16: =SUM(J10:J15) -> 3936682
C17: LOT 3 | D17: FONDATION
D18: Béton de propreté sous semelles filantes dosé à 150Kg/m3 | G18: m3 | H18: =0.05*0.45*175.56 -> 3.9501 | I18: 90000 | J18: =H18*I18 -> 355509
D19: Béton pour semelles filantes dosé à 350Kg/m3 | G19: m3 | H19: =0.1*0.45*175.56 -> 7.9002 | I19: 150000 | J19: =H19*I19 -> 1185030
D20: Aciers longitudinaux HA8 pour semelles filantes | G20: kg | H20: =0.394*175.56*3 -> 207.51192 | I20: 1300 | J20: =H20*I20 -> 269765.5
D21: Epingles HA10 pour semelles filantes | G21: kg | H21: =0.55*878*0.616 -> 297.4664 | I21: 1300 | J21: =H21*I21 -> 386706.32 | K21: Nbre = | L21: =L11/0.2 -> 877.8
D22: Béton pour poteaux dosé à 350Kg/m3 | G22: m3 | H22: =0.2*0.2*0.35*45 -> 0.63 | I22: 150000 | J22: =H22*I22 -> 94500 | K22: Nbre = | L22: 45
D23: Aciers HA10 pour semelles filantes | G23: kg | H23: =1.6*4*45*0.615 -> 177.12 | I23: 1300 | J23: =H23*I23 -> 230256
D24: Cadres HA6 | G24: kg | H24: =(0.14*4+0.1*2)*3*45*0.222 -> 22.7772 | I24: 1300 | J24: =H24*I24 -> 29610.36
D25: Coffrage en bois fond de 20 | G25: m² | H25: =0.2*0.5*4*45 -> 18 | I25: 5000 | J25: =H25*I25 -> 90000
D26: Béton pour chainage bas dosé à 350Kg/m3 | G26: m3 | H26: =0.2*0.2*175.56 -> 7.0224 | I26: 150000 | J26: =H26*I26 -> 1053360
D27: Aciers HA8 pour le chainage | G27: kg | H27: =0.394*175.56 -> 69.17064 | I27: 1300 | J27: =H27*I27 -> 89921.832
D28: Cadres HA6 | G28: kg | H28: =0.222*878*(0.14*4+0.1*2) -> 148.13616 | I28: 1300 | J28: =H28*I28 -> 192577.01
D29: Coffrage en bois fond de 20 | G29: m² | H29: =0.2*175.56*2 -> 70.224 | I29: 5000 | J29: =H29*I29 -> 351120
D30: Béton pour dallage dosé à 300Kg/m3 ep= 8cm | G30: m3 | H30: =H13*0.08 -> 23.2368 | I30: 115000 | J30: =H30*I30 -> 2672232
D31: Maçonnerie en agglos 20 cm | G31: m² | H31: =0.35*175.56 -> 61.446 | I31: 11000 | J31: =H31*I31 -> 675906
C32: Sous Total LOT3 | J32: =SUM(J18:J31) -> 7676494
C33: LOT 4 | D33: RDC
D34: Béton pour poteaux dosé à 350Kg/m3 | G34: m3 | H34: =0.2*0.2*2.8*45 -> 5.04 | I34: 150000 | J34: =H34*I34 -> 756000
D35: Aciers HA10 pour poteaux | G35: kg | H35: =(2.8+0.6)*4*0.616*45 -> 376.992 | I35: 1300 | J35: =H35*I35 -> 490089.6
D36: Cadres HA6 | G36: kg | H36: =(0.14*4+0.1*2)*14*0.222*45 -> 106.2936 | I36: 1300 | J36: =H36*I36 -> 138181.68 | K36: Nbre = | L36: =280/20 -> 14
D37: Coffrage en bois fond de 20 | G37: m² | H37: =2.8*0.2*4*45 -> 100.8 | I37: 5000 | J37: =H37*I37 -> 504000
D38: Béton dosé à 350Kg/m3 pour linteaux | G38: m3 | H38: =0.15*0.15*175.56 -> 3.9501 | I38: 150000 | J38: =H38*I38 -> 592515
D39: Aciers HA8 pour linteaux | G39: kg | H39: =0.397*175.56*4 -> 278.78928 | I39: 1300 | J39: =H39*I39 -> 362426.06
D40: Aciers HA6 pour les cadres linteaux | G40: kg | H40: =0.222*(0.1*4+0.12)*878 -> 101.35632 | I40: 1300 | J40: =H40*I40 -> 131763.22
D41: Coffrage pour lintaux | G41: m² | H41: =2*0.2*175.56 -> 70.224 | I41: 5000 | J41: =H41*I41 -> 351120
D42: Béton dosé à 350Kg/m3 pour chainage haut | G42: m3 | H42: =0.15*0.15*175.56 -> 3.9501 | I42: 150000 | J42: =H42*I42 -> 592515
D43: Aciers HA8 pour chainage haut | G43: kg | H43: =0.397*175.56*4 -> 278.78928 | I43: 1300 | J43: =H43*I43 -> 362426.06
D44: Aciers HA6 pour les cadres chainage haut | G44: kg | H44: =0.222*(0.1*4+0.12)*878 -> 101.35632 | I44: 1300 | J44: =H44*I44 -> 131763.22
D45: Coffrage en bois fond de 20 | G45: m² | H45: =2*0.2*175.56 -> 70.224 | I45: 5000 | J45: =H45*I45 -> 351120
D46: Béton pour escalier dosé à 350Kg/m3 | G46: m3 | H46: =0.9+0.98+0.96+0.2 -> 3.04 | I46: 150000 | J46: =H46*I46 -> 456000
D47: Aciers HA10 pour escalier | G47: kg | H47: =0.616*4.54*16 -> 44.74624 | I47: 1300 | J47: =H47*I47 -> 58170.112
D48: Aciers HA8 de répartition pour escalier | G48: kg | H48: =0.394*1.45*19 -> 10.8547 | I48: 1300 | J48: =H48*I48 -> 14111.11
D49: Maçonnerie en agglos 15 cm | G49: m² | H49: =2.8*175.56 -> 491.568 | I49: 11000 | J49: =H49*I49 -> 5407248
C50: Sous total Poste LOT 4 | J50: =SUM(J34:J49) -> 10699449
C51: LOT 5 | D51: Etage
D52: Béton pour poteaux dosé à 350Kg/m3 | G52: m3 | H52: =0.2*0.2*2.8*45 -> 5.04 | I52: 150000 | J52: =H52*I52 -> 756000
D53: Aciers HA10 pour poteaux | G53: kg | H53: =(2.8+0.6)*4*0.616*45 -> 376.992 | I53: 1300 | J53: =H53*I53 -> 490089.6
D54: Aciers HA6 pour cadres poteaux | G54: kg | H54: =(0.1*4+0.12)*14*0.222*45 -> 72.7272 | I54: 1300 | J54: =H54*I54 -> 94545.36
D55: Coffrage en bois fond de 20 | G55: m² | H55: =2.8*0.2*4*45 -> 100.8 | I55: 5000 | J55: =H55*I55 -> 504000
D56: Béton dosé à 350kg/m3 pour la dalle d'épaisseur 15 cm | G56: m3 | H56: =H13*0.15 -> 43.569 | I56: 150000 | J56: =H56*I56 -> 6535350
D57: Aciers HA10 pour la dalle | G57: kg | H57: =60*H56 -> 2614.14 | I57: 1300 | J57: =H57*I57 -> 3398382
D58: Etaiement pour la dalle | G58: u | H58: =(18.8/0.8)*(15.45/0.8) -> 453.84375 | I58: 5000 | J58: =H58*I58 -> 2269218.7
D59: Béton dosé à 350Kg/m3 pour linteaux | G59: m3 | H59: =0.15*0.15*175.56 -> 3.9501 | I59: 150000 | J59: =H59*I59 -> 592515
D60: Aciers HA8 pour linteaux | G60: kg | H60: =0.397*175.56*4 -> 278.78928 | I60: 1300 | J60: =H60*I60 -> 362426.06
D61: Aciers HA6 pour les cadres linteaux | G61: kg | H61: =0.222*(0.1*4+0.12)*878 -> 101.35632 | I61: 1300 | J61: =H61*I61 -> 131763.22
D62: Coffrage pour lintaux | G62: m² | H62: =2*0.2*175.56 -> 70.224 | I62: 5000 | J62: =H62*I62 -> 351120
D63: Béton dosé à 350Kg/m3 pour chainage haut | G63: m3 | H63: =0.15*0.15*175.56 -> 3.9501 | I63: 150000 | J63: =H63*I63 -> 592515
D64: Aciers HA8 pour chainage haut | G64: kg | H64: =0.397*175.56*4 -> 278.78928 | I64: 1300 | J64: =H64*I64 -> 362426.06
D65: Aciers HA6 pour les cadres chainage haut | G65: kg | H65: =0.222*(0.1*4+0.12)*878 -> 101.35632 | I65: 1300 | J65: =H65*I65 -> 131763.22
D66: Coffrage en bois fond de 20 | G66: m² | H66: =2*0.2*175.56 -> 70.224 | I66: 5000 | J66: =H66*I66 -> 351120
D67: Maçonnerie en agglos 15 cm | G67: m² | H67: =2.8*175.56 -> 491.568 | I67: 11000 | J67: =H67*I67 -> 5407248
C68: Sous total LOT 5 | J68: =SUM(J52:J67) -> 22330482
C70: LOT 6 | D70: CHARPENTE EN BOIS - COUVERTURE
D71: Ferme en bois en fond de 15 et Chevrons 8x8cm2 | G71: m3 | H71: =0.15*0.03*741+0.08*0.08*163 -> 4.3777 | I71: 300000 | J71: =H71*I71 -> 1313310
D72: Toles bac en alu 5/10ième | G72: m2 | H72: 286 | I72: 5000 | J72: =H72*I72 -> 1430000
C73: Sous total LOT 6 | J73: =SUM(J71:J72) -> 2743310
C74: LOT 7 | D74: REVETEMENT - ETANCHEITE
D75: RDC
D76: Revetement du sol en gré de céramique 45x45 | G76: ml | H76: 238 | I76: 25000 | J76: =H76*I76 -> 5950000
D77: Plinthe carreaux en gré de céramique | G77: m2 | H77: 102 | I77: 10000 | J77: =H77*I77 -> 1020000
D78: Faience 20x50 pour salle d'eau (SBD, cuisine et toilette) | G78: m2 | H78: 74 | J78: =H78*I78 -> 0
D79: Etage
D80: Revetement du sol en gré de céramique 45x45 | G80: ml | H80: 238 | J80: =H80*I80 -> 0
D81: Plinthe carreaux en gré de céramique | G81: m2 | H81: 102 | J81: =H81*I81 -> 0
D82: Faience 20x50 pour salle d'eau (SBD, cuisine et toilette) | G82: m2 | H82: 74 | J82: =H82*I82 -> 0
C83: Sous total LOT 7 | J83: =SUM(J76:J82) -> 6970000
C84: LOT 8 | D84: FAUX PLAFOND
D85: RDC
D86: Faux plafond interieur y compris décoration en CP8 mm | G86: m2 | H86: 238 | J86: =H86*I86 -> 0
D87: Contre plaquée 8mm | G87: u | H87: 79 | J87: =H87*I87 -> 0
D88: Lattes 5x8 | G88: m3 | H88: =0.05*0.08*991 -> 3.964 | J88: =H88*I88 -> 0
D89: Etage
D90: Faux plafond interieur y compris décoration en CP8 mm | G90: m2 | H90: 238 | J90: =H90*I90 -> 0
D91: Contre plaquée 8mm | G91: u | H91: 79 | J91: =H91*I91 -> 0
D92: Lattes 5x8 | G92: m3 | H92: =0.05*0.08*991 -> 3.964 | J92: =H92*I92 -> 0
C93: Sous total LOT 8 | J93: =SUM(J86:J92) -> 0
C94: LOT 9 | D94: MENUISERIE EN BOIS - MENUISERIE EN ALUMINIUM
D95: RDC
D96: Fourniture et pose de bloc porte pleine en bois 1,5x210 | G96: u | H96: 2 | J96: =H96*I96 -> 0
D97: Fourniture et pose de bloc porte pleine en bois 90x210 | G97: u | H97: 6 | J97: =H97*I97 -> 0
D98: Fourniture et pose de bloc porte pleine en bois 80x210 | G98: u | H98: 5 | J98: =H98*I98 -> 0
D99: Fenetre à deux battants 120x110 | G99: u | H99: 10 | J99: =H99*I99 -> 0
D100: Fenetre à deux battants 60x60 | G100: u | H100: 5 | J100: =H100*I100 -> 0
D101: Etage
D102: Fourniture et pose de bloc porte pleine en bois 1,5x210 | G102: u | H102: 2 | J102: =H102*I102 -> 0
...
