Workbook
Name Beg_Bal: #REF!
Name End_Bal: '[1]Tableau d''amortissement'!$I$19:$I$378
Name Extra_Pay: #REF!
Name Header_Row: ROW('[1]Tableau d''amortissement'!$18:$18)
Name Int: #REF!
Name Interest_Rate: '[1]Tableau d''amortissement'!$D$6
Name Last_Row: IF(Values_Entered,Header_Row+Number_of_Payments,Header_Row)
Name Loan_Amount: '[1]Tableau d''amortissement'!$D$5
Name Loan_Start: '[1]Tableau d''amortissement'!$D$9
Name Loan_Years: '[1]Tableau d''amortissement'!$D$7
Name Num_Pmt_Per_Year: #REF!
Name Number_of_Payments: MATCH(0.01,End_Bal,-1)+1
Name Pay_Num: #REF!
Name Princ: #REF!
Name Sched_Pay: #REF!
Name Scheduled_Extra_Payments: #REF!
Name Scheduled_Monthly_Payment: #REF!
Name Total_Pay: #REF!
Name Values_Entered: IF(Loan_Amount*Interest_Rate*Loan_Years*Loan_Start>0,1,0)

Sheet Chiffrage
A1: Budget construction de maison Excel : chiffrage, planning, financement
A4: Complétez les cases bleues uniquement
H5: Calendrier des travaux (cases à colorer) :
A6: Poste de coût | B6: Description | C6: Artisan, fournisseur, vendeur, prestataire | D6: Montant budgété | E6: Montant réel payé | F6: Ecart budgété / payé | H6: MOIS 1 | I6: MOIS 2 | J6: MOIS 3 | K6: MOIS 4 | L6: MOIS 5 | M6: MOIS 6 | N6: MOIS 7 | O6: MOIS 8 | P6: MOIS 9 | Q6: MOIS 10 | R6: MOIS 11 | S6: MOIS 12 | T6: MOIS 13 | U6: MOIS 14 | V6: MOIS 15 | W6: MOIS 16 | X6: MOIS 17 | Y6: MOIS 18 | Z6: MOIS 19 | AA6: MOIS 20 | AB6: MOIS 21 | AC6: MOIS 22 | AD6: MOIS 23 | AE6: MOIS 24
A7: COUT D'ACHAT DU TERRAIN | B7: Montant achat terrain | C7: M. Durand | D7: 75000 | E7: 74000 | F7: =IF(OR(ISBLANK(D7),ISBLANK(E7)),"",E7-D7) -> -1000 | H7: 1er oct
B8: Frais notaire | C8: Me Julia | D8: 5000 | E8: 3954 | F8: =IF(OR(ISBLANK(D8),ISBLANK(E8)),"",E8-D8) -> -1046 | H8: 44484
A9: COUTS PREPARATOIRES | B9: Géomètre | F9: =IF(OR(ISBLANK(D9),ISBLANK(E9)),"",E9-D9) | I9: 44503
B10: Architecte, plans | D10: 8000 | E10: 2500 | F10: =IF(OR(ISBLANK(D10),ISBLANK(E10)),"",E10-D10) -> -5500 | I10: 44505 | J10: 44515
B11: Permis de construire | F11: =IF(OR(ISBLANK(D11),ISBLANK(E11)),"",E11-D11) | J11: 44523
B12: Compléter | F12: =IF(OR(ISBLANK(D12),ISBLANK(E12)),"",E12-D12)
B13: Compléter | F13: =IF(OR(ISBLANK(D13),ISBLANK(E13)),"",E13-D13)
A14: PRÉPARATION DU TERRAIN | B14: Démolition | D14: 3000 | E14: 4500 | F14: =IF(OR(ISBLANK(D14),ISBLANK(E14)),"",E14-D14) -> 1500
B15: Traitement sol | F15: =IF(OR(ISBLANK(D15),ISBLANK(E15)),"",E15-D15) | L15: 44201
B16: Compléter | F16: =IF(OR(ISBLANK(D16),ISBLANK(E16)),"",E16-D16)
B17: Compléter | F17: =IF(OR(ISBLANK(D17),ISBLANK(E17)),"",E17-D17)
B18: Compléter | F18: =IF(OR(ISBLANK(D18),ISBLANK(E18)),"",E18-D18)
A19: ASSAINISSEMENT (si non collectif) | B19: Etude de sol | F19: =IF(OR(ISBLANK(D19),ISBLANK(E19)),"",E19-D19) | L19: 44211
B20: Fosse sceptique : prix catalogue | D20: 3500 | E20: 3500 | F20: =IF(OR(ISBLANK(D20),ISBLANK(E20)),"",E20-D20) -> 0 | M20: 44230
B21: Pose des installations | D21: 1000 | F21: =IF(OR(ISBLANK(D21),ISBLANK(E21)),"",E21-D21)
B22: Tranchées, pompes, tuyauterie | D22: 1500 | F22: =IF(OR(ISBLANK(D22),ISBLANK(E22)),"",E22-D22)
B23: Compléter | F23: =IF(OR(ISBLANK(D23),ISBLANK(E23)),"",E23-D23)
B24: Compléter | F24: =IF(OR(ISBLANK(D24),ISBLANK(E24)),"",E24-D24)
A25: SERVICES COLLECTIFS | B25: Branchement eau potable | D25: 450 | F25: =IF(OR(ISBLANK(D25),ISBLANK(E25)),"",E25-D25)
B26: Branchement tout à l'égoût | D26: 450 | F26: =IF(OR(ISBLANK(D26),ISBLANK(E26)),"",E26-D26)
B27: Raccordement électrique | D27: 1500 | F27: =IF(OR(ISBLANK(D27),ISBLANK(E27)),"",E27-D27)
B28: Branchement électrique | D28: 200 | F28: =IF(OR(ISBLANK(D28),ISBLANK(E28)),"",E28-D28)
B29: Installation Gaz | D29: 1000 | F29: =IF(OR(ISBLANK(D29),ISBLANK(E29)),"",E29-D29)
B30: Raccordement télécom / fibre | D30: 1000 | F30: =IF(OR(ISBLANK(D30),ISBLANK(E30)),"",E30-D30)
B31: Compléter | F31: =IF(OR(ISBLANK(D31),ISBLANK(E31)),"",E31-D31)
B32: Compléter | F32: =IF(OR(ISBLANK(D32),ISBLANK(E32)),"",E32-D32)
A33: TERRASSEMENT | B33: Terrassement | D33: 4000 | F33: =IF(OR(ISBLANK(D33),ISBLANK(E33)),"",E33-D33)
B34: Talus | D34: 2000 | F34: =IF(OR(ISBLANK(D34),ISBLANK(E34)),"",E34-D34)
B35: Pierres | F35: =IF(OR(ISBLANK(D35),ISBLANK(E35)),"",E35-D35)
B36: Compléter | F36: =IF(OR(ISBLANK(D36),ISBLANK(E36)),"",E36-D36)
B37: Compléter | F37: =IF(OR(ISBLANK(D37),ISBLANK(E37)),"",E37-D37)
B38: Compléter | F38: =IF(OR(ISBLANK(D38),ISBLANK(E38)),"",E38-D38)
A39: FONDATIONS | B39: Fondations, dalle | D39: 12000 | F39: =IF(OR(ISBLANK(D39),ISBLANK(E39)),"",E39-D39)
B40: Compléter | F40: =IF(OR(ISBLANK(D40),ISBLANK(E40)),"",E40-D40)
B41: Compléter | F41: =IF(OR(ISBLANK(D41),ISBLANK(E41)),"",E41-D41)
A42: MAÇONNERIE | B42: Murs | D42: 15000 | F42: =IF(OR(ISBLANK(D42),ISBLANK(E42)),"",E42-D42)
...

Sheet Récapitulatif
A1: Récapitulatif budget construction maison
A3: Onglet de consultation - non modifiable
A5: Poste de coût | B5: Montant budgété | C5: Montant réel payé | D5: Ecart budgété / payé
A6: COUT D'ACHAT DU TERRAIN | B6: =SUM(Chiffrage!D7:D8) -> 80000 | C6: =SUM(Chiffrage!E7:E8) -> 77954 | D6: =SUM(Chiffrage!F7:F8) -> -2046
A7: COUTS PREPARATOIRES | B7: =+SUM(Chiffrage!D9:D13) -> 8000 | C7: =+SUM(Chiffrage!E9:E13) -> 2500 | D7: =+SUM(Chiffrage!F9:F13) -> -5500
A8: PRÉPARATION DU TERRAIN | B8: =SUM(Chiffrage!D14:D18) -> 3000 | C8: =SUM(Chiffrage!E14:E18) -> 4500 | D8: =SUM(Chiffrage!F14:F18) -> 1500
A9: ASSAINISSEMENT (si non collectif) | B9: =SUM(Chiffrage!D19:D24) -> 6000 | C9: =SUM(Chiffrage!E19:E24) -> 3500 | D9: =SUM(Chiffrage!F19:F24) -> 0
A10: SERVICES COLLECTIFS | B10: =SUM(Chiffrage!D25:D32) -> 4600 | C10: =SUM(Chiffrage!E25:E32) -> 0 | D10: =SUM(Chiffrage!F25:F32) -> 0
A11: TERRASSEMENT | B11: =SUM(Chiffrage!D33:D38) -> 6000 | C11: =SUM(Chiffrage!E33:E38) -> 0 | D11: =SUM(Chiffrage!F33:F38) -> 0
A12: FONDATIONS | B12: =SUM(Chiffrage!D39:D41) -> 12000 | C12: =SUM(Chiffrage!E39:E41) -> 0 | D12: =SUM(Chiffrage!F39:F41) -> 0
A13: MAÇONNERIE | B13: =SUM(Chiffrage!D42:D47) -> 20000 | C13: =SUM(Chiffrage!E42:E47) -> 0 | D13: =SUM(Chiffrage!F42:F47) -> 0
A14: CHARPENTE ET TOIT | B14: =SUM(Chiffrage!D48:D53) -> 34000 | C14: =SUM(Chiffrage!E48:E53) -> 0 | D14: =SUM(Chiffrage!F48:F53) -> 0
A15: FACADE | B15: =SUM(Chiffrage!D54:D58) -> 16000 | C15: =SUM(Chiffrage!E54:E58) -> 0 | D15: =SUM(Chiffrage!F54:F58) -> 0
A16: FENÊTRES / PORTES | B16: =SUM(Chiffrage!D59:D66) -> 17200 | C16: =SUM(Chiffrage!E59:E66) -> 0 | D16: =SUM(Chiffrage!F59:F66) -> 0
A17: PLOMBERIE | B17: =SUM(Chiffrage!D67:D74) -> 11500 | C17: =SUM(Chiffrage!E67:E74) -> 0 | D17: =SUM(Chiffrage!F67:F74) -> 0
A18: ÉLECTRICITÉ | B18: =SUM(Chiffrage!D75:D82) -> 5800 | C18: =SUM(Chiffrage!E75:E82) -> 0 | D18: =SUM(Chiffrage!F75:F82) -> 0
A19: CLIMATISATION ET CHAUFFAGE | B19: =SUM(Chiffrage!D83:D88) -> 14500 | C19: =SUM(Chiffrage!E83:E88) -> 0 | D19: =SUM(Chiffrage!F83:F88) -> 0
A20: ISOLATION | B20: =SUM(Chiffrage!D89:D94) -> 30000 | C20: =SUM(Chiffrage!E89:E94) -> 0 | D20: =SUM(Chiffrage!F89:F94) -> 0
A21: PLACO-PLÂTRE | B21: =SUM(Chiffrage!D95:D100) -> 18000 | C21: =SUM(Chiffrage!E95:E100) -> 0 | D21: =SUM(Chiffrage!F95:F100) -> 0
A22: SOLS ET FINITION INTÉRIEURE | B22: =SUM(Chiffrage!D101:D109) -> 24000 | C22: =SUM(Chiffrage!E101:E109) -> 0 | D22: =SUM(Chiffrage!F101:F109) -> 0
A23: CUISINE & SALLE-DE-BAINS | B23: =SUM(Chiffrage!D110:D116) -> 25000 | C23: =SUM(Chiffrage!E110:E116) -> 0 | D23: =SUM(Chiffrage!F110:F116) -> 0
A24: PORCHES & TERRASSES | B24: =SUM(Chiffrage!D117:D123) -> 2850 | C24: =SUM(Chiffrage!E117:E123) -> 0 | D24: =SUM(Chiffrage!F117:F123) -> 0
A25: EQUIPEMENT ELECTRO-MENAGER | B25: =SUM(Chiffrage!D124:D130) -> 0 | C25: =SUM(Chiffrage!E124:E130) -> 0 | D25: =SUM(Chiffrage!F124:F130) -> 0
A26: AUTRES | B26: =SUM(Chiffrage!D131:D137) -> 0 | C26: =SUM(Chiffrage!E131:E137) -> 0 | D26: =SUM(Chiffrage!F131:F137) -> 0
A27: TOTAL | B27: =SUM(B6:B26) -> 338450 | C27: =SUM(C6:C26) -> 88454 | D27: =SUM(D6:D26) -> -6046
A29: Pour déverrouiller ce document, rendez-vous dans le dernier onglet du classeur

Sheet Mot de passe
