Workbook

Sheet Feuil3
G2: Fcj : | H2: [j / (4,76+0,83 j)]*fc28
A5: VITESSE | B5: RESISTANCE | C5: VITESSE(m/s) | D5: RESISTANCE | E5: VITESSE | F5: RESISTANCE(Mpa) | G5: jours | H5: fcj | I5: Mpa
G6: 1 | H6: =(G6/(4.76+0.83*G6))*25 -> 4.4722719
A7: 2875 | B7: 85 | C7: 3450 | D7: 140 | E7: 4025 | F7: 245 | G7: =G6+1 -> 2 | H7: =(G7/(4.76+0.83*G7))*25 -> 7.788162
A8: 2900 | B8: 90 | C8: 3475 | D8: 140 | E8: 4050 | F8: 250 | G8: =G7+1 -> 3 | H8: =(G8/(4.76+0.83*G8))*25 -> 10.344828
A9: 2925 | B9: 90 | C9: 3500 | D9: 145 | E9: 4075 | F9: 260 | G9: =G8+1 -> 4 | H9: =(G9/(4.76+0.83*G9))*25 -> 12.376238
A10: 2950 | B10: 95 | C10: 3525 | D10: 145 | E10: 4100 | F10: 265 | G10: =G9+1 -> 5 | H10: =(G10/(4.76+0.83*G10))*25 -> 14.029181
A11: 2975 | B11: 95 | C11: 3550 | D11: 150 | E11: 4125 | F11: 270 | G11: =G10+1 -> 6 | H11: =(G11/(4.76+0.83*G11))*25 -> 15.400411
A12: 3000 | B12: 100 | C12: 3575 | D12: 150 | E12: 4150 | F12: 275 | G12: =G11+1 -> 7 | H12: =(G12/(4.76+0.83*G12))*25 -> 16.556291
A13: 3025 | B13: 100 | C13: 3600 | D13: 155 | E13: 4175 | F13: 280 | G13: =G12+1 -> 8 | H13: =(G13/(4.76+0.83*G13))*25 -> 17.54386
A14: 3050 | B14: 100 | C14: 3625 | D14: 160 | E14: 4200 | F14: 290 | G14: =G13+1 -> 9 | H14: =(G14/(4.76+0.83*G14))*25 -> 18.397383
A15: 3075 | B15: 105 | C15: 3650 | D15: 160 | E15: 4225 | F15: 295 | G15: =G14+1 -> 10 | H15: =(G15/(4.76+0.83*G15))*25 -> 19.14242
A16: 3100 | B16: 105 | C16: 3675 | D16: 165 | E16: 4250 | F16: 305 | G16: =G15+1 -> 11 | H16: =(G16/(4.76+0.83*G16))*25 -> 19.798416
A17: 3125 | B17: 110 | C17: 3700 | D17: 170 | E17: 4275 | F17: 310 | G17: =G16+1 -> 12 | H17: =(G17/(4.76+0.83*G17))*25 -> 20.380435
A18: 3150 | B18: 110 | C18: 3725 | D18: 170 | E18: 4300 | F18: 320 | G18: =G17+1 -> 13 | H18: =(G18/(4.76+0.83*G18))*25 -> 20.900322
... A29: 3425 | B29: 135 | C29: 4000 | D29: 240 | E29: 4575 | F29: 430 | G29: =G28+1 -> 24 | H29: =(G29/(4.76+0.83*G29))*25 -> 24.311183
G30: =G29+1 -> 25 | H30: =(G30/(4.76+0.83*G30))*25 -> 24.500196
G31: =G30+1 -> 26 | H31: =(G31/(4.76+0.83*G31))*25 -> 24.677297
G32: =G31+1 -> 27 | H32: =(G32/(4.76+0.83*G32))*25 -> 24.843577
G33: =G32+1 -> 28 | H33: =(G33/(4.76+0.83*G33))*25 -> 25

Sheet Note de Calcul
C1: Intitulé du projet : | E1: étude genie civil | I1: 04/04/2024
C2: Note de calcul | E2: R+02+T
A6: I. Descriptionde l'ouvrage:
A7: 1.1) Situation:
A8: Le projet qui fait l'objet de la note de calcul est un logement individuel en R+02+T
A9: - Les étages courants sont à usage (habitations) s.
A10: Le projet est (R+02+T.A) projeté à constantine wilaya de constantine qui est une zone
A11: à moyenne sismicité Zone (IIa)
A12: 1.2) Description architecturale:
A13: Les dimentions du batiment sont:
A14: - La hauteur totale …………………………….12.24 m | D14: 12,00 m
A15: Le batiment comprend un RDC et étages courants dont les hauteurs sont:
A16: - La hauteur du RDC …………………. 3,00m
A17: - La hauteur d'étage …………………. 3,00m
A18: 1.3) Description structurale:
A19: L'ossature:
A20: Vue la hauteur du projet, et d'après l'article 3.4.A.1.a du RPA99/v2003, tout ouvrage dépas-
A21: sant les 14m de hauteur doit etre constitué de portiques et voiles en béton armé (contrevente-
A22: ment mixte) avec justification d'interaction voiles-portiques, ou avec voiles porteurs (entière-
A23: ment contreventé par voiles). | D23: dans notre cas pas de contreventement H=12 m | H23: ≤ 14 m
A24: Les planchers:
A25: Les planchers utilisés sont de type corps creux (hourdis) avec une dalle de
A26: compression en béton armé, formant ainsi un diaphragme horizontal rigide, transmettant
A27: les charges horizontales aux éléments verticaux tout en assurant la compatibilité des défor-
A28: mations.
A29: II. Règlements et normes de calculs:
A30: La présente note de calcul est élaborée suivant les règles de calculs et de conceptions en
A31: vigueur actuellement en Algérie à savoir:
A32: - Le R.P.A 99/v2003
A33: - Le DTR BC .2.2
A34: - Le B.A.E.L 91
A35: - Le C.B.A 93
... A38: 3.1.1_ A l'E.L.U:
C39: 25 | D39: MPa | G39: =0.6+(0.06*C39) -> 2.1 | H39: MPa
C41: ; Avec: | E41: pour situations normales
E42: Pour situations accidentelles (Séisme)
A44: Le diagramme de contraintes Déformations adopté est :
A45: - Parabole-rectangle pour les sections entièrement comprimées.
A46: - Rectangulaire simplifié pour les autres cas.
A47: Contrainte limite ultime de cisaillement, elle est limitée à :
...

Sheet Feuil1
B4: SITE | C4: S1 | D4: S2 | E4: S3 | F4: S4
B5: T1 (Sec) | C5: 0.15 | D5: 0.15 | E5: 0.15 | F5: 0.15
B6: T2 (Sec) | C6: 0.3 | D6: 0.4 | E6: 0.5 | F6: 0.7

Sheet coefi de comportement+les effor
I1: Résultat
H2: =IF(G41<=20%,IF(D3<33,"Le coéfficient de comportement R= 4 ","Le coéfficient de comportement R= 5 "),IF(G41>20%,"Le coéfficient de comportement R= 3.5")) -> Le coéfficient de comportement R= 3.5
B3: Hauteur du batiment | D3: 14.88 | H3: =IF(H60>=25%,IF(D3<33,"Système 4b selon X-X ","Système 4a selon X-X")) -> Système 4b selon X-X
H4: =IF( H79>=25%,IF(D3<33,"Système 4b selon Y-Y ","Système 4a selon Y-Y ")) -> Système 4b selon Y-Y
B6: Voiles de contreventement | G6: Poteaux
B7: Effort tranchant | D7: Effort normal | G7: Effort tranchant | I7: Effort normal
A8: Etage | B8: Tx | C8: Ty | D8: N voile | F8: Etage | G8: Tx | H8: Ty | I8: N poteaux
A9: 1 | B9: 415.1 | C9: 465.69 | D9: -2556.13 | F9: 1 | G9: 154.39 | H9: 134.55 | I9: -9008.74
A10: 2 | B10: 215.76 | C10: 283.08 | D10: -1754.12 | F10: 2 | G10: 203.77 | H10: 151.63 | I10: -6741.94
A11: 3 | B11: 0 | C11: 0 | D11: -1105.89 | F11: 3 | G11: 45.02 | H11: 46.94 | I11: -4448.65
A12: 4 | B12: 0 | C12: 0 | D12: -416.04 | F12: 4 | G12: 0 | H12: 0 | I12: -2044.33
A13: 5 | B13: 0 | C13: 0 | F13: 5 | G13: 0 | H13: 0
A14: 6 | B14: 0 | C14: 0 | F14: 6 | G14: 0 | H14: 0
A15: 7 | B15: 0 | C15: 0 | F15: 7 | G15: 0 | H15: 0
A16: 8 | B16: 0 | C16: 0 | F16: 8 | G16: 0 | H16: 0
A17: 9 | B17: 0 | C17: 0 | F17: 9 | G17: 0 | H17: 0
A18: 10 | B18: 0 | C18: 0 | F18: 10 | G18: 0 | H18: 0
A19: 11 | B19: 0 | C19: 0 | F19: 11 | G19: 0 | H19: 0
A20: 12 | B20: 0 | C20: 0 | F20: 12 | G20: 0 | H20: 0
A21: 13 | B21: 0 | C21: 0 | F21: 13 | G21: 0 | H21: 0
A22: 14 | F22: 14
A24: Effort normal sur les voiles et poteaux
A26: Etage | B26: Voile | C26: poteaux | D26: somme | G26: N Voile | H26: N Poteaux
A27: 01 | B27: =D9 -> -2556.13 | C27: =I9 -> -9008.74 | D27: =B27+C27 -> -11564.87 | G27: =(B27/D27) -> 0.2210254 | H27: =C27/D27 -> 0.7789746
A28: 02 | B28: =D10 -> -1754.12 | C28: =I10 -> -6741.94 | D28: =B28+C28 -> -8496.06 | G28: =(B28/D28) -> 0.20646276 | H28: =C28/D28 -> 0.79353724
A29: 03 | B29: =D11 -> -1105.89 | C29: =I11 -> -4448.65 | D29: =B29+C29 -> -5554.54 | G29: =(B29/D29) -> 0.19909659 | H29: =C29/D29 -> 0.80090341
A30: 04 | B30: =D12 -> -416.04 | C30: =I12 -> -2044.33 | D30: =B30+C30 -> -2460.37 | G30: =B30/D30 -> 0.16909652 | H30: 0
A31: 05 | B31: =D13 -> 0 | C31: =I13 -> 0 | D31: =B31+C31 -> 0 | G31: =B31/D31 -> #DIV/0! | H31: 0
A32: 06 | B32: =D14 -> 0 | C32: =I14 -> 0 | D32: =B32+C32 -> 0 | G32: =B32/D32 -> #DIV/0! | H32: 0
A33: 07 | B33: =D15 -> 0 | C33: =I15 -> 0 | D33: =B33+C33 -> 0 | G33: =B33/D33 -> #DIV/0! | H33: 0
A34: 08 | B34: =D16 -> 0 | C34: =I16 -> 0 | D34: =B34+C34 -> 0 | G34: =B34/D34 -> #DIV/0! | H34: 0
A35: 09 | B35: =D17 -> 0 | C35: =I17 -> 0 | D35: =B35+C35 -> 0 | G35: =B35/D35 -> #DIV/0! | H35: 0
A36: 10 | B36: =D18 -> 0 | C36: =I18 -> 0 | D36: =B36+C36 -> 0 | G36: =B36/D36 -> #DIV/0! | H36: 0
A37: 11 | B37: =D19 -> 0 | C37: =I19 -> 0 | D37: =B37+C37 -> 0 | G37: =B37/D37 -> #DIV/0! | H37: 0
A38: 12 | B38: =D20 -> 0 | C38: =I20 -> 0 | D38: =B38+C38 -> 0 | G38: =B38/D38 -> #DIV/0! | H38: 0
A39: 13 | B39: =D21 -> 0 | C39: =I21 -> 0 | D39: =B39+C39 -> 0 | G39: =B39/D39 -> #DIV/0! | H39: 0
A40: 14 | B40: =D22 -> 0 | C40: =I22 -> 0 | D40: =B40+C40 -> 0 | G40: =B40/D40 -> #DIV/0! | H40: 0
A41: TOTAL | B41: =SUM(B27:B40) -> -5832.18 | C41: =SUM(C27:C40) -> -22243.66 | D41: =SUM(D27:D40) -> -28075.84 | G41: =B41/D41 -> 0.20772949 | H41: =C41/D41 -> 0.79227051
A43: Effort Tranchant sur les voiles et poteaux selon X-X
A45: Etage | B45: Voile | C45: poteaux | D45: somme | G45: FX Voile | H45: FX Poteaux
...

Sheet verification effet ∆
A1: 1/vérification déplacement relatif au niveau K
C3: ( Sous combinaisons EX)
A5: étage | B5: UX | C5: dr(UX) relatif | D5: R (coéf de comport) | E5: ∆x=(R)X(UX) | F5: 1%H(étage) | G5: ∆x ≤1%H(étage) | J5: 0.003
A6: 1 | B6: =J5*100 -> 0.3 | C6: =B6 -> 0.3 | D6: 3.5 | E6: =C6*D6 -> 1.05 | F6: 4 | G6: =IF((E6<=F6),"vérifié","non vérifié") -> vérifié | J6: 0.0092
A7: 2 | B7: =J6*100 -> 0.92 | C7: =B7-B6 -> 0.62 | D7: 3.5 | E7: =C7*D7 -> 2.17 | F7: 4 | G7: =IF((E7<=F7),"vérifié","non vérifié") -> vérifié | J7: 0.0156
A8: 3 | B8: =J7*100 -> 1.56 | C8: =B8-B7 -> 0.64 | D8: 3.5 | E8: =C8*D8 -> 2.24 | F8: 4 | G8: =IF((E8<=F8),"vérifié","non vérifié") -> vérifié
A9: 4
A10: 5
A11: 6
A12: 7
A13: 8
A14: 9
C16: (Sous combinaisons EY)
A18: étage | B18: UY | C18: dr(UY) relatif | D18: R (coéf de comport) | E18: ∆y=(R)X(Uy) | F18: 1%H(étage) | G18: ∆y ≤1%H(étage) | J18: 0.0016
A19: 1 | B19: 0.508 | C19: =B19 -> 0.508 | D19: 3.5 | E19: =C19*D19 -> 1.778 | F19: 4 | G19: =IF((E19<=F19),"vérifié","non vérifié") -> vérifié | J19: 0.005
A20: 2 | B20: 1.263 | C20: =B20-B19 -> 0.755 | D20: 3.5 | E20: =C20*D20 -> 2.6425 | F20: 3.4 | G20: =IF((E20<=F20),"vérifié","non vérifié") -> vérifié | J20: 0.0083
A21: 3 | B21: 2.096 | C21: =B21-B20 -> 0.833 | D21: 3.5 | E21: =C21*D21 -> 2.9155 | F21: 3.74 | G21: =IF((E21<=F21),"vérifié","non vérifié") -> vérifié
A22: 4
A23: 5
A24: 6
A25: 7
A26: 8
A27: 9
A29: 2/vérification L'effet P-∆
C31: (Sous combinaisons EX)
A33: Etage | B33: P | C33: dr(UX) | D33: Vx | E33: h | F33: θ=P*dr(UX) /Vx*h | G33: Vérification θx ≤ 0.1
A34: 1 | B34: -3665.26 | C34: =C6 -> 0.3 | D34: 569.49 | E34: 3.06 | F34: =(-B34*C34/100)/(D34*E34) -> 0.0063098424 | G34: =IF(F34<=0.1,"Vérifié","condition non vérifiée") -> Vérifié
A35: 2 | B35: -1856.95 | C35: =C7 -> 0.62 | D35: 419.53 | E35: 3.06 | F35: =(-B35*C35/100)/(D35*E35) -> 0.0089682447 | G35: =IF(F35<=0.1,"Vérifié","condition non vérifiée") -> Vérifié
A36: 3 | B36: -157.98 | C36: =C8 -> 0.64 | D36: 45.02 | E36: 1.5 | F36: =(-B36*C36/100)/(D36*E36) -> 0.01497219 | G36: =IF(F36<=0.1,"Vérifié","condition non vérifiée") -> Vérifié
A37: 4
A38: 5
A39: 6
A40: 7
A41: 8
A42: 9
C44: (Sous combinaisons EY)
A46: Etage | B46: P | C46: dr(UY) | D46: Vy | E46: h | F46: θ=P*dr(UY) /Vy*h | G46: Vérification θy ≤ 0.1
A47: 1 | B47: -3665.26 | C47: =C19 -> 0.508 | D47: . | E47: 3.06 | F47: =(-B47*C47/100)/(D47*E47) -> #VALUE! | G47: =IF(F47<=0.1,"Vérifié","condition non vérifiée") -> #VALUE!
A48: 2 | B48: -1856.95 | C48: =C20 -> 0.755 | D48: 434.71 | E48: 3.06 | F48: =(-B48*C48/100)/(D48*E48) -> 0.010539648 | G48: =IF(F48<=0.1,"Vérifié","condition non vérifiée") -> Vérifié
A49: 3 | B49: -157.98 | C49: =C21 -> 0.833 | D49: 46.94 | E49: 1.5 | F49: =(-B49*C49/100)/(D49*E49) -> 0.018690149 | G49: =IF(F49<=0.1,"Vérifié","condition non vérifiée") -> Vérifié
...

Sheet verification renversement
I2: 495.02 | J2: 521.67
I3: 836.79 | J3: 901.49
A4: 3/ vérification Renversement | I4: 1037.48 | J4: 1124.57
I5: 1139.63 | J5: 1233.37
D6: DIRECTION X
A8: ETAGE | B8: Vx (KN) | C8: Fx (KN) | D8: h (m) | E8: W (KN) | F8: Xg (m) | G8: Mr (KN) | H8: Ms (KN) | I8: Vérification
A9: 1 | B9: ='Note de Calcul'!E346 -> 366.66 | C9: =B9-C10-C11-C12-C13-C14-C15-C16-C17-C18-C19-C20 -> 56.6 | D9: =3+1.5 -> 4.5 | E9: ='Note de Calcul'!$F$285 -> 4000.71 | F9: ='Note de Calcul'!B231/2 -> 4.525 | G9: =C9*D9 -> 254.7 | H9: =E9*F9 -> 18103.213 | I9: =IF(($H9/G9)<1.5,"Condition non vérifiée","OK") -> OK
A10: 2 | B10: ='Note de Calcul'!E347 -> 310.06 | C10: =B10-C11-C12-C13-C14-C15-C16-C17-C18-C19-C20 -> 111.61 | D10: =3+D9 -> 7.5 | G10: =C10*D10 -> 837.075 | I10: =IF(($H9/G10)<1.5,"Condition non vérifiée","OK") -> OK
A11: 3 | B11: ='Note de Calcul'!E348 -> 198.45 | C11: =B11-C12--C13-C14-C15-C16-C17-C18-C19-C20 -> 151.8 | D11: =3+D10 -> 10.5 | G11: =C11*D11 -> 1593.9 | I11: =IF(($H9/G11)<1.5,"Condition non vérifiée","OK") -> OK
A12: 4 | B12: ='Note de Calcul'!E349 -> 46.65 | C12: =B12-C13-C14-C15-C16-C17-C18-C19-C20-C21 -> 46.65 | D12: =3+D11 -> 13.5 | G12: =C12*D12 -> 629.775 | I12: =IF(($H9/G12)<1.5,"Condition non vérifiée","OK") -> OK
G13: =C13*D13 -> 0 | I13: =IF(($H9/G13)<1.5,"Condition non vérifiée","OK") -> #DIV/0!
G14: =C14*D14 -> 0 | I14: =IF(($H9/G14)<1.5,"Condition non vérifiée","OK") -> #DIV/0!
G15: =C15*D15 -> 0 | I15: =IF(($H9/G15)<1.5,"Condition non vérifiée","OK") -> #DIV/0!
G16: =C16*D16 -> 0 | I16: =IF(($H9/G16)<1.5,"Condition non vérifiée","OK") -> #DIV/0!
G17: =C17*D17 -> 0 | I17: =IF(($H9/G17)<1.5,"Condition non vérifiée","OK") -> #DIV/0!
G18: =C18*D18 -> 0 | I18: =IF(($H9/G18)<1.5,"Condition non vérifiée","OK") -> #DIV/0!
G19: =C19*D19 -> 0 | I19: =IF(($H9/G19)<1.5,"Condition non vérifiée","OK") -> #DIV/0!
G20: =C20*D20 -> 0 | I20: =IF(($H9/G20)<1.5,"Condition non vérifiée","OK") -> #DIV/0!
D23: DIRECTION Y
A25: ETAGE | B25: Vy (KN) | C25: FY (KN) | D25: h (m) | E25: W (KN) | F25: Yg (m) | G25: Mr (KN) | H25: Ms (KN) | I25: Vérification
A26: 1 | B26: ='Note de Calcul'!E354 -> 383.02 | C26: =B26-C27-C28-C29-C30-C31-C32-C33-C34-C35-C36-C37 -> 54.61 | D26: =+D9 -> 4.5 | E26: ='Note de Calcul'!$F$285 -> 4000.71 | F26: ='Note de Calcul'!B232/2 -> 8.315 | G26: =C26*D26 -> 245.745 | H26: =E26*F26 -> 33265.904 | I26: =IF(($H26/G26)<1.5,"Condition non vérifiée","OK") -> OK
A27: 2 | B27: ='Note de Calcul'!E355 -> 328.41 | C27: =B27-C28-C29-C30-C31-C32-C33-C34-C35-C36-C37 -> 121.48 | D27: =+D10 -> 7.5 | G27: =C27*D27 -> 911.1 | I27: =IF(($H26/G27)<1.5,"Condition non vérifiée","OK") -> OK
A28: 3 | B28: ='Note de Calcul'!E356 -> 206.93 | C28: =B28-C29-C30-C31-C32-C33-C34-C35-C36-C37 -> 156.16 | D28: =+D11 -> 10.5 | G28: =C28*D28 -> 1639.68 | I28: =IF(($H26/G28)<1.5,"Condition non vérifiée","OK") -> OK
B29: ='Note de Calcul'!E357 -> 50.77 | C29: =B29-C30-C31-C32-C33-C34-C35-C36-C37-C38 -> 50.77 | D29: =+D12 -> 13.5 | G29: =C29*D29 -> 685.395 | I29: =IF(($H26/G29)<1.5,"Condition non vérifiée","OK") -> OK
G30: =C30*D30 -> 0 | I30: =IF(($H26/G30)<1.5,"Condition non vérifiée","OK") -> #DIV/0!
G31: =C31*D31 -> 0 | I31: =IF(($H26/G31)<1.5,"Condition non vérifiée","OK") -> #DIV/0!
G32: =C32*D32 -> 0 | I32: =IF(($H26/G32)<1.5,"Condition non vérifiée","OK") -> #DIV/0!
G33: =C33*D33 -> 0 | I33: =IF(($H26/G33)<1.5,"Condition non vérifiée","OK") -> #DIV/0!
G34: =C34*D34 -> 0 | I34: =IF(($H26/G34)<1.5,"Condition non vérifiée","OK") -> #DIV/0!
G35: =C35*D35 -> 0 | I35: =IF(($H26/G35)<1.5,"Condition non vérifiée","OK") -> #DIV/0!
G36: =C36*D36 -> 0 | I36: =IF(($H26/G36)<1.5,"Condition non vérifiée","OK") -> #DIV/0!
G37: =C37*D37 -> 0 | I37: =IF(($H26/G37)<1.5,"Condition non vérifiée","OK") -> #DIV/0!

Sheet SEMELLE ISOLEE
A1: Semelle carrée selon B.A.E.L 91 révisé 99 (SEMELLE S1) | I1: X-X | J1: Y-Y
D2: N et M avec leur signe | H2: NS | I2: 436.34
B3: DONNEES | D3: Saisir les chiffres dans la couleur en bleue | H3: Nu | I3: 598.28
H4: MU | I4: 7.113 | J4: 2.254
B5: Ns (t) | C5: =I2*0.1 -> 43.634 | D5: Effort normal à l'ELS | H5: N/0.8G+E | I5: 354.93 | J5: 336.7
B6: Nu (t) | C6: =I3*0.1 -> 59.828 | D6: Effort normal à l'ELU | H6: M/0.8G+E | I6: 12.488 | J6: 12.665
B7: Muy (t.m) | C7: =J4*0.1 -> 0.2254 | D7: Moment à L'ELU | E7: selon x | H7: N/G+Q+E | I7: 491.38 | J7: 473.15
B8: Mux (t.m) | C8: =I4*0.1 -> 0.7113 | D8: Moment à L'ELU selon y | H8: M/G+Q+E | I8: 14.014 | J8: 13.141
B9: N0.8G±Ex (t) | C9: =I5*0.1 -> 35.493 | D9: Effort normal sous 0,8G±Ex
B10: N0.8G±Ey (t) | C10: =J5*0.1 -> 33.67 | D10: Effort normal sous 0,8G±Ey
B11: M0.8G±Ey (t.m) | C11: =J6*0.1 -> 1.2665 | D11: Moment sous 0,8G±Ex
B12: M0.8G±Ex (t.m) | C12: =I6*0.1 -> 1.2488 | D12: Moment sous 0,8G±Ey
B13: NG+Q±Ex (t) | C13: =I7*0.1 -> 49.138 | D13: Effort normal sous G+Q±Ex
B14: NG+Q±Ey (t) | C14: =J7*0.1 -> 47.315 | D14: Effort normal sous G+Q±Ey
B15: MG+Q±Ey(t.m) | C15: =J8*0.1 -> 1.3141 | D15: Moment sous G+Q±Ex
B16: MG+Q±Ex (t.m) | C16: =I8*0.1 -> 1.4014 | D16: Moment sous G+Q±Ey
B17: σ'sol (Mpa) | C17: 0.2 | D17: Contrainte admissible du sol
B18: σst (Mpa) | C18: 348 | D18: Contrainte de calcul des aciers à L'ELU
B19: Fe (Mpa) | C19: 400 | D19: Contrainte limite des aciers
B20: Fc28 (Mpa) | C20: 25 | D20: Resistance du beton a la compression à 28 jours
B21: ψ | C21: 1.5 | D21: Coef de scellement
B22: η | C22: 1.6 | D22: Coef de fissuration qui dépend de l'adhérence
B23: a (m) | C23: 0.3 | D23: Petit coté du poteau
B24: b (m) | C24: 0.3 | D24: Grande coté du poteau
B25: c (m) | C25: 0.05 | D25: Enrobage des aciers
B26: hp (m) | C26: 0.7 | D26: Hauteur de l'avant poteau
B27: σst (Mpa) | C27: =MIN((2*C19/3),(110*SQRT(C22*C28))) -> 201.63333 | D27: Contrainte de calcul des aciers à L'ELS
B28: Ft28 (Mpa) | C28: =0.6+0.06*C20 -> 2.1 | D28: Resistance du beton a la traction à 28 jours
D31: Dimensionnement
C33: B (m) ≥ | D33: =SQRT(C5*C24*0.01/(C17*C23)) -> 1.4770579 | E33: Longeur de la semelle // b
C34: Prend B (m) | D34: 1.6
C35: A (m) | D35: =C23*D33/C24 -> 1.4770579 | E35: Largeur de la semelle // a
C36: Prend A (m) | D36: 1.6
C37: ht (m) ≥ | D37: =MAX(((D36-C23)/4),((D34-C24)/4))+C25 -> 0.375 | E37: Hauteur de la semelle
C38: Prend ht (m) | D38: 0.4
B40: Vérification de la semelle sous l'effet de son poids propre
C42: N' (t) | D42: =C5+(2.5*C23*C24*C26)+(2.5*D34*D36*D38)+2*((C26+D38)*D34*D36-(C23*C24*C26)-(D34*D36*D38)) -> 49.8095
C43: σs (Mpa) | D43: =D42*0.01/(D34*D36) -> 0.19456836 | E43: =IF(D43<C17,"Vérifiée","Augmenter A et B") -> Vérifiée
B45: Vérification de la semelle sous l'effet de la force sismique
C47: Stabilité de la semelle au renversement
...

Sheet semelle filante
B1: Semelle filante selon B.A.E.L 91 révisé 99 (Sf) | J1: X-X
E2: N et M avec leur signe | I2: NS | J2: 197.67273
C3: DONNEES | E3: Saisir les chiffres dans la couleur en bleue | I3: Nu | J3: 270.44091
I4: MU | J4: 2.3640909
C5: Ns (t) | D5: =J2*0.1 -> 19.767273 | E5: Effort normal à l'ELS | I5: N/0.8G+E | J5: 453.06818
C6: Nu (t) | D6: =J3*0.1 -> 27.044091 | E6: Effort normal à l'ELU | I6: M/0.8G+E | J6: 17.112273
C7: Mu (t.m) | D7: =J4*0.1 -> 0.23640909 | E7: Moment à L'ELU | I7: N/G+Q+E | J7: 511.72273
C8: N0.8G±E (t) | D8: =J5*0.1 -> 45.306818 | E8: Effort normal sous 0,8G±E | I8: M/G+Q+E | J8: 17.211818
C9: M0.8G±E (t.m) | D9: =J6*0.1 -> 1.7112273 | E9: Moment sous 0,8G±E
C10: NG+Q±E (t) | D10: =J7*0.1 -> 51.172273 | E10: Effort normal sous G+Q±E
C11: MG+Q±E (t.m) | D11: =J8*0.1 -> 1.7211818 | E11: Moment sous G+Q±E
C12: σ'sol (Mpa) | D12: 0.15 | E12: Contrainte admissible du sol
C13: σst (Mpa) | D13: 348 | E13: Contrainte de calcul des aciers à L'ELU
C14: Fe (Mpa) | D14: 400 | E14: Contrainte limite des aciers
C15: Fc28 (Mpa) | D15: 25 | E15: Resistance du beton a la compression à 28 jours
C16: η | D16: 1.6 | E16: Coef de fissuration qui dépend de l'adhérence
C17: b (m) | D17: 0.2 | E17: Epaisseur du mur
C18: c (m) | D18: 0.03 | E18: Enrobage des aciers
C19: ψ | D19: 1.5 | E19: Coef de scellement
C20: η | D20: 1.6 | E20: Coef de fissuration qui dépend de l'adhérence
C21: hm (m) | D21: 0.65 | E21: Hauteur de l'avant mur
C22: L (m) | D22: 2.2 | E22: Longueur du mur
C23: X (m) | D23: 2.3 | E23: Longueur de la semelle
C24: σst (Mpa) | D24: =MIN((2*D14/3),(110*SQRT(D16*D25))) -> 201.63333 | E24: Contrainte de calcul des aciers à L'ELS
C25: Ft28 (Mpa) | D25: =0.6+0.06*D15 -> 2.1 | E25: Resistance du beton a la traction à 28 jours
E28: Dimensionnement
D30: B (m) ≥ | E30: =ABS(D5)*0.01/(D12*D22) -> 0.59900826 | F30: Largeur de la semelle
D31: Prend B (m) | E31: 1.3
D32: ht (m) ≥ | E32: =((E31-D17)/4)+D18 -> 0.305 | F32: Hauteur de la semelle
D33: Prend ht (m) | E33: 0.35
C35: Vérification de la semelle sous l'effet de son poids propre
D37: N' (t) | E37: =ABS(D5)+(2.5*D17*D21*D22)+(2.5*E31*D23*E33)+2*(E31*(E33+D21)*D23 -(D17*D21*D22)-(E31*D23*E33)) -> 26.413523
D38: σs (Mpa) | E38: =E37*0.01/(E31*D22) -> 0.092354975 | F38: =IF(E38<D12,"Vérifiée","Augmenter B") -> Vérifiée
C40: Vérification de la semelle sous l'effet de la force sismique
D42: Stabilité de la semelle au renversement
B44: 0,8G ± E | D44: G + Q ± E | F44: ELU
B45: 4*e | C45: =4*ABS(D9/D8) -> 0.15107901 | D45: 4*e | E45: =4*ABS(D11/D10) -> 0.13454019 | F45: 4*e | G45: =4*ABS(D7/D6) -> 0.034966469
B46: B ≥4*e | C46: =IF(E31>=C45,"Vérifiée","N vérifiée") -> Vérifiée | D46: B ≥4*e | E46: =IF(E31>=E45,"Vérifiée","N vérifiée") -> Vérifiée | F46: B ≥4*e | G46: =IF(E31>=G45,"Vérifiée","N vérifiée") -> Vérifiée
D48: Vérification des contraintes dans le sol
B50: 0,8G ± E | D50: G + Q ± E | F50: ELU
...
